BEGIN:VCALENDAR
VERSION:2.0
PRODID:-//jEvents 2.0 for Joomla//EN
CALSCALE:GREGORIAN
METHOD:PUBLISH
BEGIN:VEVENT
UID:a57edfefad4b84b6b24f93076028daaf
CATEGORIES:Festiwal, Giełda książek, Impreza dla czytelników
CREATED:20250220T134305
SUMMARY:33. Giełda Książki Bibliotecznej 2025
LOCATION:Rynek 58 | Galeria Pod Plafonem
DESCRIPTION;ENCODING=QUOTED-PRINTABLE:<p><strong>33. Giełda Książki Bibliotecznej w Dolnośląskiej Bibliotece Publ
 icznej</strong></p><p><strong>19-23 maja 2025 | 10:00-18:00</strong></p><p>
 &nbsp;</p><p style="text-align: justify;">Dolnośląska Biblioteka Publiczna 
 im. Tadeusza Mikulskiego we Wrocławiu zaprasza wszystkich miłośników książe
 k, muzyki, podróży (i nie tylko) na 33. Giełdę Książki Bibliotecznej, która
  odbędzie się w siedzibie biblioteki przy Rynku 58. To doskonała okazja, by
  wzbogacić swoją domową biblioteczkę o wyjątkowe tytuły za symboliczną kwot
 ę 5 zł!</p><p style="text-align: justify;">Podczas giełdy będzie można naby
 ć książki wycofane z księgozbioru biblioteki – zarówno literaturę piękną, j
 ak i popularnonaukową, publikacje dla dzieci, młodzieży i dorosłych, czasop
 isma, płyty winylowe, filmy na DVD, przewodniki, albumy. Cały dochód ze spr
 zedaży zostanie przeznaczony na zakup nowych książek dla czytelników.</p><p
  style="text-align: justify;">Wydarzenie ma charakter otwarty – nie trzeba 
 się rejestrować, wystarczy przyjść i buszować wśród setek tytułów. Giełda t
 o nie tylko szansa na upolowanie literackich perełek, ale też pretekst do o
 dwiedzenia biblioteki i rozmowy z jej pracownikami. To także forma recyklin
 gu – książki zyskują drugie życie w nowych rękach.</p><p>&nbsp;</p><p><stro
 ng>W skrócie... co kupimy?</strong></p><p>Książki, płyty, winyle i czasopis
 ma całkiem nowe, starsze, a nawet antykwaryczne perełki, których nie ma nig
 dzie indziej.</p><p>W ofercie są książki różnych gatunków, m.in. komiksy, m
 angi, fantasy, książki dla dzieci, literatura piękna, poradniki, literatura
  naukowa oraz tomy w różnych językach, m.in. angielskim, niemieckim, francu
 skim, koreańskim i nie tylko.<br /> <br /><strong>Giełda Książki Bibliotecz
 nej – wszystko za 5 zł!</strong><br />Wszystkie egzemplarze książek (także 
 w obcych językach), płyt, filmów, winyli, czasopism (są pakowane po kilka s
 ztuk) kosztują 5 zł.&nbsp;Płacić można wyłącznie gotówką!<br /> <br /><br /
 ></p><div class="attachmentsContainer">

<div class="dbpAttachmentsList" id
 ="attachmentsList_com_jevents_default_2803"></div>

</div>
CONTACT:RegularLabs.EmailProtector.unCloak("ep_0298be51");
X-EXTRAINFO:WSZYSTKO ZA 5 ZŁ!\nwstęp wolny
DTSTAMP:20260419T174345Z
DTSTART;TZID=UTC:20250519T100000
DTEND;TZID=UTC:20250523T180000
SEQUENCE:0
TRANSP:OPAQUE
END:VEVENT
END:VCALENDAR