BEGIN:VCALENDAR
VERSION:2.0
PRODID:-//jEvents 2.0 for Joomla//EN
CALSCALE:GREGORIAN
METHOD:PUBLISH
BEGIN:VEVENT
UID:b9d7656d7b29121d642b8c92251c3015
CATEGORIES:Dla dorosłych, Spotkanie klubowe
CREATED:20250217T123635
SUMMARY:Dyskusyjny Klub Książki Grozy: Mexican Gothic
LOCATION:DBP, Biblioteka Romańska/Słowiańska, III p.
DESCRIPTION;ENCODING=QUOTED-PRINTABLE:<div><div><strong>KLUB KSIĄŻKI GROZY</strong>&nbsp;</div><div>&nbsp;</div><
 div>spotkanie dla miłośników i miłośniczek literatury grozy&nbsp;</div><div
 >&nbsp;</div><div><strong>12 czerwca 2025 | godz. 17:00&nbsp;</strong>&nbsp
 ;</div><div>&nbsp;</div><div><strong>DBP | Rynek 58 | III piętro</strong></
 div><div>&nbsp;</div><div>&nbsp;</div></div><div><p style="text-align: just
 ify;">Jesteś miłośnikiem/miłośniczką literatury grozy? A może dopiero chces
 z wyruszyć w tę mrożącą krew w żyłach podróż i zacząć przygodę z książkami 
 z tego gatunku? Chciałbyś poznać ludzi, którzy – tak jak Ty – kochają tajem
 nicę, napięcie i atmosferę niepokoju?</p><p style="text-align: justify;">Za
 praszamy na spotkania Klubu Książki Grozy! Spotykamy się <strong>w drugie c
 zwartki miesiąca</strong>, aby rozmawiać o klasykach i nowościach literatur
 y grozy, dzielić się przemyśleniami, odkrywać nowe tytuły i wspólnie zagłęb
 iać się w najmroczniejsze zakątki literatury.</p><p style="text-align: just
 ify;">Podczas najbliższego spotkania porozmawiamy o powieści <strong>"Mexic
 an Gothic" autorstwa Silvii Moreno-Garcii</strong> – książce, która od mome
 ntu wydania w 2020 roku zyskała status współczesnego hitu wśród czytelników
  horroru i gotyckiego thrillera.</p><p style="text-align: justify;">To opow
 ieść osadzona w latach 50. XX wieku, w Meksyku, gdzie młoda i zadziorna ary
 stokratka Noemí Taboada wyrusza do starej, odciętej od świata posiadłości H
 igh Place, by sprawdzić, co dzieje się z jej kuzynką, która niedawno wyszła
  za mąż i zaczęła wysyłać niepokojące listy. Na miejscu Noemí trafia na rod
 zinę pełną tajemnic, ponure mury skrywające mroczną przeszłość i coś, co wy
 kracza poza granice racjonalnego pojmowania. Mexican Gothic to historia z e
 lementami klasycznego horroru, gotyckiej atmosfery i krytyki społecznej, w 
 której groza miesza się z estetyką meksykańskich wierzeń, kolonializmem i o
 powieścią o kobiecej sile.</p><p style="text-align: justify;">To doskonała 
 propozycja zarówno dla fanów klasyki, jak i dla tych, którzy szukają świeże
 go podejścia do gatunku. Porozmawiamy o stylu autorki, symbolice, budowaniu
  napięcia i roli kontekstu kulturowego w opowiadaniu grozy.</p><p><strong>W
 stęp wolny – przyjdź i daj się wciągnąć!</strong></p></div><div>Spotkanie p
 oprowadzą: Marta Wojtaszek i Magdalena Zięba&nbsp;</div><div>Opiekunka klub
 u: Justyna Sobieralska&nbsp;</div><div class="attachmentsContainer">

<div 
 class="dbpAttachmentsList" id="attachmentsList_com_jevents_default_2796"></
 div>

</div>
CONTACT:RegularLabs.EmailProtector.unCloak("ep_a8cd794e");
X-EXTRAINFO:wstęp wolny, spotkanie dla osób pełnoletnich 
DTSTAMP:20260419T174345Z
DTSTART;TZID=UTC:20250612T170000
SEQUENCE:0
TRANSP:OPAQUE
END:VEVENT
END:VCALENDAR