BEGIN:VCALENDAR
VERSION:2.0
PRODID:-//jEvents 2.0 for Joomla//EN
CALSCALE:GREGORIAN
METHOD:PUBLISH
BEGIN:VEVENT
UID:8f9953edeab7668ef6ef94e17c2fe4aa
CATEGORIES:Dla dorosłych, Spotkanie klubowe
CREATED:20250217T123549
SUMMARY:Dyskusyjny Klub Książki Grozy: Hex 
LOCATION:Rynek 58, Biblioteka Romańska/Słowiańska, III p.
DESCRIPTION;ENCODING=QUOTED-PRINTABLE:<div><div><strong>KLUB KSIĄŻKI GROZY</strong>&nbsp;|&nbsp;spotkanie dla mił
 ośników literatury grozy&nbsp;</div><div>&nbsp;</div><div><strong>8 maja 20
 25 | godz. 17:00&nbsp;</strong>&nbsp;</div><div><strong>DBP | Rynek 58 | II
 I piętro</strong></div><div><strong>wstęp wolny</strong>&nbsp;</div><div><s
 trong>spotkanie dla osób pełnoletnich</strong>&nbsp;</div><div>&nbsp;</div>
 <div>&nbsp;</div></div><div style="text-align: justify;">Ludzie czytają ksi
 ążki grozy z wielu powodów, często bardziej złożonych, niż mogłoby się wyda
 wać. Przede wszystkim groza pozwala przeżywać silne emocje w bezpieczny spo
 sób – możemy odczuwać strach, napięcie i niepokój, wiedząc, że to tylko fik
 cja. Dla wielu to forma emocjonalnej rozrywki, coś jak jazda kolejką górską
  – daje dreszczyk, ale bez realnego zagrożenia. Książki grozy często też po
 ruszają tematy, których inne gatunki unikają – śmierć, zło, mroczne zakamar
 ki ludzkiej psychiki. Dzięki temu pozwalają oswajać własne lęki i konfronto
 wać się z tym, co nieznane. Co więcej, dobre horrory nierzadko niosą ze sob
 ą głębsze przesłanie – są metaforą społecznych problemów, traum czy moralny
 ch dylematów. <strong>Dla wielu czytelników to także sposób na wspólne prze
 żywanie emocji, rozmowy, a nawet budowanie tożsamości</strong> w ramach róż
 nych subkultur. Ostatecznie groza przyciąga, bo daje coś, czego codzienne ż
 ycie zwykle nie oferuje – intensywność, tajemnicę i kontakt z tym, co przer
 ażające, ale fascynujące.</div><div>&nbsp;</div><div>Jesteś miłośnikiem lit
 eratury grozy?&nbsp;</div><div>A może chciałbyś wyruszyć w tę mrożącą krew 
 w żyłach podróż i rozpocząć czytanie książek w tym gatunku?&nbsp;</div><div
 >Chciałbyś poznać ludzi o podobnych zainteresowaniach?&nbsp;</div><div>&nbs
 p;</div><div>Zapraszamy na spotkania Klubu Książki Grozy! Spotykamy się w&n
 bsp;<strong>drugie czwartki miesiąca</strong>.</div><div>&nbsp;</div><div>N
 a spotkaniu w maju&nbsp; porozmawiamy o książce<strong> "Hex" Thomas Olde H
 euvelt.<br /></strong></div><div>&nbsp;</div><div>&nbsp;</div><div>Spotkani
 e poprowadzą: Marta Wojtaszek i Magdalena Zięba&nbsp;</div><div>Opiekunka k
 lubu: Justyna Sobieralska&nbsp;</div><div class="attachmentsContainer">

<d
 iv class="dbpAttachmentsList" id="attachmentsList_com_jevents_default_2795"
 ></div>

</div>
CONTACT:RegularLabs.EmailProtector.unCloak("ep_82f38264");
X-EXTRAINFO:dla osób +18
DTSTAMP:20260419T174038Z
DTSTART;TZID=UTC:20250508T170000
SEQUENCE:0
TRANSP:OPAQUE
END:VEVENT
END:VCALENDAR