BEGIN:VCALENDAR
VERSION:2.0
PRODID:-//jEvents 2.0 for Joomla//EN
CALSCALE:GREGORIAN
METHOD:PUBLISH
BEGIN:VEVENT
UID:920a30491f8cc42abcd480734ce8b79f
CATEGORIES:Wydarzenie zamknięte
CREATED:19700101T000000
SUMMARY:Szkolne środy
LOCATION:Rynek 58 | sala 31
DESCRIPTION;ENCODING=QUOTED-PRINTABLE:\n\ncykl: Szkolne środy\n\nśrody | godz. 9:00 | sala 31 (Biblioteka Romańsk
 a)&nbsp;\n\nobowiązują zapisy\n\n\nOd października 2024 r. wracamy do spotk
 ań w ramach cyklu Szkolne środy. Zapraszamy do Biblioteki Romańskiej grupy 
 szkolne na zajęcia, które będą miały różne formy: gry, prelekcje, pokazy, w
 arsztaty. Celem spotkań będzie zaprezentowanie i promowanie kultury krajów 
 z romańskiego oraz słowiańskiego kręgu kulturowego. Zajęcia mogą być prowad
 zone w językach: polskim, francuskim, hiszpańskim i rosyjskim.\n\n\nTerminy
  spotkań będziemy ustalać indywidualnie z zainteresowanymi. Sugerowane godz
 iny to 9:00-10:30. \n\nZapraszamy do kontaktu: Biblioteka Romańska, Rynek 5
 8; tel. 71/ 335 22 22; mail: romanska@wbp.wroc.pl\n\n\n\nNasze propozycje n
 a najbliższe spotkania:\n\n\n\n\nZajęcia kulturowo-językowe\n\nZapraszamy u
 czniów szkół średnich i klas 7-8 na zajęcia z Rosalie, stażystką Alliance F
 rançaise.&nbsp; \n\nPodczas spotkania uczniowie:\n– poznają francuskie wyra
 żenia idiomatyczne w sposób zabawny i interaktywny,\n– nauczą się rozpoznaw
 ać polskie słowa pochodzenia francuskiego,\n– wezmą udział w grach i quizac
 h dotyczących kultury francuskiej,\n– będą mieli okazję dowiedzieć się więc
 ej o mieście, z którego pochodzi Rosalie i zadać jej kilka pytań.\n\n\nZaję
 cia są dostosowane do poziomu grupy i mają na celu poszerzenie słownictwa, 
 pobudzenie ciekawości oraz promocję kultury frankofońskiej.\n\n\n&nbsp;\n\n
 \n\n Świat Małego Księcia\n zajęcia w języku francuskim, polskim lub rosyjs
 kim \n \n Zapraszamy uczniów starszych klas szkół podstawowych i liceów na 
 spotkanie poświęcone "Małemu Księciu". W czasie zajęć uczestnicy będą mogli
  lepiej poznać zarówno świat stworzony przez Antoine'a de Saint Exupery'ego
 , jak i postać samego autora. Młodszym uczniom proponujemy ponadto złożenie
  własnego modelu samolotu, zaś starszym udział w grze z użyciem QR kodów.&n
 bsp;\n \n \n Nie taki potwór straszny… \n zajęcia w języku rosyjskim lub po
 lskim \n \n Zapraszamy uczniów klas 1-5 szkół podstawowych na spotkanie ze 
 Sznorkelami: postaciami stworzonymi przez pisarkę i ilustratorkę Swietłanę 
 Resheninę. Podczas zajęć uczestnicy będą mogli zapoznać się z twórczością a
 utorki, w szczególności z książką "Mamo, to są Sznorkele!". Spotkanie zakoń
 czy się wspólną grą zaczerpniętą z omawianej opowieści.\n\n\n&nbsp;\n\n\nCm
 entarz Zapomnianych Książek \n zajęcia w języku hiszpańskim lub polskim \n 
 \n Zapraszamy uczniów klas 7-8 i liceów na zajęcia poświęcone „Cieniowi wia
 tru” Carlosa Ruiza Zafona. W czasie zajęć odwiedzimy wspólnie Cmentarz Zapo
 mnianych Książek i zanurzymy się w klimat powojennej, frankistowskiej Barce
 lony. Razem z bohaterami powieści będziemy też mogli poszukać rozwiązania z
 agadki dotyczącej tajemniczego kolekcjonera książek. \n \n \n Kosmita w Bar
 celonie \n zajęcia w języku hiszpańskim lub polskim\n\n\nZapraszamy uczniów
  klas 7-8 i liceów na zajęcia zainspirowane książką „Brak wiadomości od Gur
 ba” Eduarda Mendozy. Jak to jest być kosmitą, który próbuje odnaleźć się we
  współczesnej Barcelonie? Niezależnie od tego, z jakimi trudnościami się to
  wiąże, spróbujemy wspólnie im zaradzić!\n\n\n\n\n \n Szczegóły dotyczące k
 olejnych spotkań opublikujemy wkrótce. Zachęcamy do śledzenia mediów społec
 znościowych oraz strony Dolnośląskiej Biblioteki Publicznej\n
CONTACT:romanska@wbp.wroc.pl
DTSTAMP:20260419T174003Z
DTSTART;TZID=UTC:20241016T090000
DTEND;TZID=UTC:20241016T103000
SEQUENCE:0
RRULE:FREQ=WEEKLY;UNTIL=20250626T000000Z;INTERVAL=1;BYDAY=WE
EXDATE;TZID=UTC:20250618T090000
TRANSP:OPAQUE
END:VEVENT
END:VCALENDAR