BEGIN:VCALENDAR
VERSION:2.0
PRODID:-//jEvents 2.0 for Joomla//EN
CALSCALE:GREGORIAN
METHOD:PUBLISH
BEGIN:VEVENT
UID:b6b602605456eed873d8bb8a88c48219
CATEGORIES:Dla dorosłych, Dyskusyjny Klub Książki Kryminalnej "Zbrodnia we wtorek", Spotkanie klubowe
CREATED:20241203T092006
SUMMARY:DKK Zbrodnia we wtorek
LOCATION:DBP | Rynek 58 | III piętro | sala 35
DESCRIPTION;ENCODING=QUOTED-PRINTABLE:<p><span style="font-size: 11pt;"><strong>DYSKUSYJNY KLUB KSIĄŻKI "Zbrodnia
  we wtorek"<br /></strong></span></p><div class="default-style"><span style
 ="font-size: 11pt;"><strong>17 czerwca 2025 | godz. 17:00&nbsp;</strong></s
 pan></div><div class="default-style"><span style="font-size: 11pt;"><strong
 >DBP | Rynek 58 | III piętro | sala 35<br /></strong></span></div><div clas
 s="default-style"><span style="font-size: 11pt;"><strong>wstęp wolny</stron
 g></span></div><div><span style="font-size: 11pt;"></span><br /><span style
 ="font-size: 11pt;">Jeśli jesteś miłośnikiem kryminałów, fascynują Cię skom
 plikowane intrygi, nieoczywiści bohaterowie i zaskakujące zakończenia – mam
 y coś specjalnie dla Ciebie! Biblioteka zaprasza na cykliczne spotkania <st
 rong>Dyskusyjnego Klubu Książki „Zbrodnia we wtorek”</strong>, dedykowanego
  fanom literatury kryminalnej.</span></div><div>&nbsp;</div><div><span styl
 e="font-size: 11pt;">Dzięki spotkaniom klubu poznasz książki, które mogą Ci
 ę zaskoczyć, poruszyć lub skłonić do refleksji – nie tylko klasyki, ale i n
 owości literackie.</span></div><div>&nbsp;</div><div><span style="font-size
 : 11pt;">Od 11 lat pielęgnujemy przestrzeń dla tych, którzy kochają krymina
 ły i chcą wymieniać się swoimi spostrzeżeniami na temat fabuły, bohaterów c
 zy stylu pisania autorów.&nbsp;Przy kubku kawy lub herbaty porozmawiamy o n
 ajlepszych detektywach, zagadkach i autorach, którzy zmieniają oblicze wspó
 łczesnego kryminału.</span></div><div>&nbsp;</div><p><span style="font-size
 : 11pt;">Spotkania odbywają się <strong>we wtorki, raz w miesiącu</strong>,
  w naszej bibliotece przy Rynek 58.</span></p><p>&nbsp;</p><p><span style="
 font-size: 11pt;">Tym razem na spotkanie wybraliśmy książkę <strong>"Obcy"&
 nbsp;Maxa Czornyj</strong> – możesz podzielić się swoimi przemyśleniami alb
 o po prostu posłuchać innych.</span></p><p>&nbsp;</p><div><p><span style="f
 ont-size: 11pt;">Opiekunki klubu: Izabela Jaszczyszyn i Katarzyna Zborowska
 .</span></p></div><div class="attachmentsContainer">

<div class="dbpAttach
 mentsList" id="attachmentsList_com_jevents_default_2718"></div>

</div>
CONTACT:RegularLabs.EmailProtector.unCloak("ep_03b653c4");, RegularLabs.EmailProtector.unCloak("ep_3435d9c2");
DTSTAMP:20260419T165003Z
DTSTART;TZID=UTC:20250617T170000
SEQUENCE:0
TRANSP:OPAQUE
END:VEVENT
END:VCALENDAR