BEGIN:VCALENDAR
VERSION:2.0
PRODID:-//jEvents 2.0 for Joomla//EN
CALSCALE:GREGORIAN
METHOD:PUBLISH
BEGIN:VEVENT
UID:9b7b58922954576b747308e9211fc19a
CATEGORIES:Dla dorosłych, Dyskusyjny Klub Książki Kryminalnej "Zbrodnia we wtorek", Spotkanie klubowe
CREATED:20241203T091836
SUMMARY:DKK Zbrodnia we wtorek
LOCATION:DBP | Rynek 58 | I piętro | Biblioteka Niemiecka
DESCRIPTION;ENCODING=QUOTED-PRINTABLE:<p><span style="font-size: 11pt;"><strong>DYSKUSYJNY KLUB KSIĄŻKI "Zbrodnia
  we wtorek"<br /></strong></span></p><div class="default-style"><span style
 ="font-size: 11pt;"><strong>20 maja 2025 | godz. 17:00&nbsp;</strong></span
 ></div><div class="default-style"><span style="font-size: 11pt;"><strong>DB
 P | Rynek 58 | I piętro | Biblioteka Niemiecka</strong></span></div><div cl
 ass="default-style"><span style="font-size: 11pt;"><strong>wstęp wolny</str
 ong></span></div><div><span style="font-size: 11pt;"></span><br /><span sty
 le="font-size: 11pt;">Jeśli jesteś miłośnikiem kryminałów, fascynują Cię sk
 omplikowane intrygi, nieoczywiści bohaterowie i zaskakujące zakończenia – m
 amy coś specjalnie dla Ciebie! Biblioteka zaprasza na cykliczne spotkania <
 strong>Dyskusyjnego Klubu Książki „Zbrodnia we wtorek”</strong>, dedykowane
 go fanom literatury kryminalnej.</span></div><div>&nbsp;</div><div><span st
 yle="font-size: 11pt;">Dzięki spotkaniom klubu poznasz książki, które mogą 
 Cię zaskoczyć, poruszyć lub skłonić do refleksji – nie tylko klasyki, ale i
  nowości literackie.</span></div><div>&nbsp;</div><div><span style="font-si
 ze: 11pt;">Od 11 lat pielęgnujemy przestrzeń dla tych, którzy kochają krymi
 nały i chcą wymieniać się swoimi spostrzeżeniami na temat fabuły, bohaterów
  czy stylu pisania autorów.&nbsp;Przy kubku kawy lub herbaty porozmawiamy o
  najlepszych detektywach, zagadkach i autorach, którzy zmieniają oblicze ws
 półczesnego kryminału.</span></div><div>&nbsp;</div><p><span style="font-si
 ze: 11pt;">Spotkania odbywają się <strong>we wtorki, raz w miesiącu</strong
 >, w naszej bibliotece przy Rynek 58.</span></p><p>&nbsp;</p><p><span style
 ="font-size: 11pt;">Tym razem na spotkanie wybraliśmy książkę <strong>"Krym
 inalna historia Watykanu"&nbsp;Artura Nowaka, Arkadiusza Stempin </strong>o
 raz<strong> "Wyjazd na weekend" Sarah Alderson</strong> – możesz podzielić 
 się swoimi przemyśleniami albo po prostu posłuchać innych.</span></p><p>&nb
 sp;</p><div><p><span style="font-size: 11pt;">Opiekunki klubu: Izabela Jasz
 czyszyn i Katarzyna Zborowska.</span></p></div><div class="attachmentsConta
 iner">

<div class="dbpAttachmentsList" id="attachmentsList_com_jevents_def
 ault_2717"></div>

</div>
CONTACT:RegularLabs.EmailProtector.unCloak("ep_611cb19f");, RegularLabs.EmailProtector.unCloak("ep_e5ad2f47");
DTSTAMP:20260419T174315Z
DTSTART;TZID=UTC:20250520T170000
SEQUENCE:0
TRANSP:OPAQUE
END:VEVENT
END:VCALENDAR