BEGIN:VCALENDAR
VERSION:2.0
PRODID:-//jEvents 2.0 for Joomla//EN
CALSCALE:GREGORIAN
METHOD:PUBLISH
BEGIN:VEVENT
UID:64d1f886cb9385055968b8a5b13572c0
CATEGORIES:Dla dorosłych, Spotkanie klubowe
CREATED:20241202T134756
SUMMARY:Dyskusyjny Klub Książki Zekranizowanej
LOCATION:Biblioteka Popularnonaukowa, II piętro, DBP, Rynek 58
DESCRIPTION;ENCODING=QUOTED-PRINTABLE:DYSKUSYJNY KLUB KSIĄŻKI ZEKRANIZOWANEJ\n11 czerwca 2025 | godz. 17:00&nbsp;
 DBP | Rynek 58 | II piętro | Biblioteka Popularnonaukowawstęp wolny\n\nJeśl
 i lubisz poznawać historię najpierw z kart książki, a dopiero później ogląd
 ać jej ekranizację, to spotkania naszego Klubu są właśnie dla Ciebie! To pr
 zestrzeń dla osób, które cenią zarówno literaturę, jak i kino, i chcą porów
 nywać, analizować oraz dyskutować o tym, co zmienia się w przejściu od słow
 a do obrazu.\n\n\nPodczas naszych spotkań sięgamy po powieści, które został
 y przeniesione na ekran – zarówno te nowe, ekranizowane przez platformy str
 eamingowe, jak i klasyczne dzieła, które od lat inspirują twórców filmowych
 . Czy film może być lepszy od książki? A może to właśnie książka jest zawsz
 e bardziej szczegółowa, głębsza, bogatsza w sensy? Te i inne pytania stawia
 my sobie, rozmawiając o obu wersjach tej samej opowieści.\n\n\nCzerwcowe sp
 otkanie klubu poświęcimy powieści „Konklawe” autorstwa Roberta Harrisa – zn
 anego brytyjskiego pisarza, który specjalizuje się w thrillerach polityczny
 ch i historycznych. Książka przedstawia dramatyczne kulisy wyboru nowego pa
 pieża po niespodziewanej śmierci jego poprzednika. Akcja toczy się za zamkn
 iętymi drzwiami Kaplicy Sykstyńskiej, gdzie 118 kardynałów z całego świata 
 zostaje odciętych od świata zewnętrznego, by wybrać nowego przywódcę Kościo
 ła katolickiego. Głównym bohaterem powieści jest kardynał Lomeli – człowiek
  pełen wątpliwości, uczciwy i wewnętrznie rozdarty, który musi zmierzyć się
  nie tylko z presją otoczenia, ale i własnym sumieniem. Harris w mistrzowsk
 i sposób buduje napięcie, ukazując mechanizmy władzy, zakulisowe gry i mora
 lne dylematy uczestników konklawe.\n\n\nPowieść doczekała się ekranizacji w
  reżyserii Edwarda Bergera, twórcy głośnego filmu Na Zachodzie bez zmian. F
 ilm „Konklawe” swoją premierę miał na festiwalu w Cannes w maju 2024 roku, 
 a w głównych rolach wystąpili m.in. Ralph Fiennes jako kardynał Lomeli. Na 
 spotkaniu będziemy rozmawiać zarówno o literackim oryginale, jak i o jego f
 ilmowej wersji – porównamy konstrukcję postaci, tempo narracji, atmosferę o
 raz przesłanie obu dzieł.\n\n\nZapraszamy wszystkich miłośników książek i f
 ilmów do wspólnej rozmowy! Nie trzeba być krytykiem – wystarczy chęć dziele
 nia się refleksją i otwartość na dialog.\n\n\n&nbsp;Książka dostępna do wyp
 ożyczenia jako audiobook w dziale Książki Mówionej.\n




CONTACT:RegularLabs.EmailProtector.unCloak("ep_0139bd98");; RegularLabs.EmailProtector.unCloak("ep_45675d49");
DTSTAMP:20260419T173905Z
DTSTART;TZID=UTC:20250611T170000
DTEND;TZID=UTC:20250611T180000
SEQUENCE:0
TRANSP:OPAQUE
END:VEVENT
END:VCALENDAR