BEGIN:VCALENDAR
VERSION:2.0
PRODID:-//jEvents 2.0 for Joomla//EN
CALSCALE:GREGORIAN
METHOD:PUBLISH
BEGIN:VEVENT
UID:9786807f9d0af99f8832988a7d1ea13e
CATEGORIES:Dla dorosłych, Spotkanie klubowe
CREATED:20241127T111500
SUMMARY: DKK Zaczytany Rynek 58
LOCATION:DBP | Rynek 58 | I piętro | Biblioteka Niemiecka
DESCRIPTION;ENCODING=QUOTED-PRINTABLE:\n\nDyskusyjny Klub Książki "Zaczytany Rynek 58"\n25 czerwca 2025 | godz. 1
 6:00\n\nDBP | Rynek 58 | I piętro | Biblioteka Niemiecka\n&nbsp;\nZapraszam
 y do kamienicy przy Rynku 58, gdzie każda książka kryje w sobie wyjątkową i
  niepowtarzalną opowieść.\nNasz Dyskusyjny Klub Książki jest przeznaczony d
 la dorosłych miłośników literatury, ze szczególnym uwzględnieniem biografii
 , reportaży oraz książek historycznych. Spotkania mają charakter otwarty, d
 latego każdy zainteresowany może dołączyć do naszych rozmów.\nSpotykamy się
  raz w miesiącu, a forma spotkań bywa różnorodna – czasem są to wykłady, je
 dnak szczególnie zachęcamy do aktywnej dyskusji i wymiany opinii w gronie p
 asjonatów literatury.\n25 czerwca 2025 roku porozmawiamy o książce Iwony Ki
 enzler „Kobiety ze słynnych obrazów – muzy, modelki, kochanki, czyli kto na
  nas zerka z płócien wielkich mistrzów”.\nPublikacja ta zabiera czytelnika 
 w fascynującą podróż po świecie sztuki, skupiając się na postaciach kobiet,
  które pojawiły się na słynnych obrazach wielkich mistrzów malarstwa. Autor
 ka przedstawia nie tylko historie modelek i muz, ale także ich życie osobis
 te, wpływ na artystów oraz miejsce w historii sztuki. Książka odsłania taje
 mnice i konteksty powstawania dzieł, rzucając światło na często zapomniane 
 kobiece sylwetki, które były inspiracją lub bohaterkami wielkich płócien. T
 o pozycja, która pozwala spojrzeć na obrazy z nowej perspektywy, zrozumieć 
 relacje między artystami a kobietami oraz docenić ich rolę w kreowaniu hist
 orii kultury.\nSerdecznie zapraszamy do udziału w dyskusji!\n\n\n&nbsp;\n\n
 \nInformacje na temat dostepności oraz dojazdu do Biblioteki dostępne są na
  stronie https://www.wbp.wroc.pl/wbp/pl/deklaracja-dostepnosci#dojazd\n\n\n
 &nbsp;\n




CONTACT:RegularLabs.EmailProtector.unCloak("ep_f1c1749e"); 
X-EXTRAINFO:wstęp wolny
DTSTAMP:20260419T174005Z
DTSTART;TZID=UTC:20250625T160000
SEQUENCE:0
TRANSP:OPAQUE
END:VEVENT
END:VCALENDAR