BEGIN:VCALENDAR
VERSION:2.0
PRODID:-//jEvents 2.0 for Joomla//EN
CALSCALE:GREGORIAN
METHOD:PUBLISH
BEGIN:VEVENT
UID:b8a2b152a0b784ab332701b8842c631a
CATEGORIES:Dla dorosłych, Spotkanie klubowe
CREATED:20241127T111338
SUMMARY: DKK Zaczytany Rynek 58
LOCATION:DBP | Rynek 58 | I piętro | Biblioteka Niemiecka
DESCRIPTION;ENCODING=QUOTED-PRINTABLE:\n\nDyskusyjny Klub Książki "Zaczytany Rynek 58"\n28 maja 2025 | godz. 16:0
 0\n\nDBP | Rynek 58 | I piętro | Biblioteka Niemiecka\n\n\nwstęp wolny\n\n\
 n\n&nbsp;\n\n\nZapraszamy do kamienicy przy Rynku 58, gdzie każda książka k
 ryje w sobie unikalną opowieść.\nDyskusyjny Klub Książki „Zaczytany Rynek 5
 8” to idealne miejsce dla dorosłych miłośników literatury, którzy szukają n
 ie tylko książek, ale i głębszych refleksji oraz intelektualnej wymiany myś
 li. Jeśli pasjonują Cię biografie, reportaże czy książki historyczne, to sp
 otkania tego klubu będą dla Ciebie prawdziwą przyjemnością. Każde spotkanie
  to okazja, by zanurzyć się w fascynujących opowieściach i spojrzeć na nie 
 z różnych perspektyw.\n28 maja 2025 porozmawiamy o książce „Służące do wszy
 stkiego” autorstwa Joanny Kuciel-Frydryszak. To poruszająca opowieść o losa
 ch kobiet, które przez wiele lat pełniły rolę służących w polskich domach. 
 Książka łączy osobiste historie z szerszymi kontekstami społecznymi, ukazuj
 ąc trudną rzeczywistość, ale także siłę, jaką te kobiety czerpały z codzien
 nej walki o godność. Dyskusja nad tą książką pozwoli głębiej zrozumieć nie 
 tylko losy jednostek, ale także zmiany społeczne, które miały miejsce w Pol
 sce w XX wieku.\nNasze spotkania mają charakter otwarty – nie musisz być ek
 spertem, aby dołączyć. Choć spotkania mogą mieć formę wykładu, zależy nam n
 a aktywnej dyskusji i wymianie poglądów. Wspólna rozmowa o książkach, dziel
 enie się spostrzeżeniami i osobistymi refleksjami sprawia, że każdy uczestn
 ik wychodzi z takiego spotkania wzbogacony o nowe spojrzenie na przeczytane
  lektury.\n\n\n&nbsp;\nPrzyjdź i bądź częścią naszej literackiej społecznoś
 ci. Czekamy na Ciebie!\n\n\nInformacje na temat dostepności oraz dojazdu do
  Biblioteki dostępne są na stronie https://www.wbp.wroc.pl/wbp/pl/deklaracj
 a-dostepnosci#dojazd\n\n\n&nbsp;\n




CONTACT:RegularLabs.EmailProtector.unCloak("ep_dbf9273f"); 
DTSTAMP:20260419T174502Z
DTSTART;TZID=UTC:20250528T160000
SEQUENCE:0
TRANSP:OPAQUE
END:VEVENT
END:VCALENDAR