BEGIN:VCALENDAR
VERSION:2.0
PRODID:-//jEvents 2.0 for Joomla//EN
CALSCALE:GREGORIAN
METHOD:PUBLISH
BEGIN:VEVENT
UID:6d797e23740801f1c235d83bca0a591c
CATEGORIES:Zajęcia dla młodzieży, Zajęcia dla dzieci, Wydarzenie zamknięte
CREATED:20230125T101904
SUMMARY:Zajęcia z edukacji czytelniczej
LOCATION:Dział Pracy z Dziećmi, parter DBP, Rynek 58
DESCRIPTION;ENCODING=QUOTED-PRINTABLE:<div class="default-style"><span style="font-size: 11pt;"></span><div class
 ="default-style"><span style="font-size: 11pt;"><strong>Klasa 1</strong>&nb
 sp;? ?Poznajemy bibliotekę ? warsztaty z książką?</span></div><div class="d
 efault-style"><span style="font-size: 11pt;"><strong>Klasa 2</strong>&nbsp;
 ? ?Poznajemy bibliotekę. Jak powstaje książka??</span></div><div class="def
 ault-style"><span style="font-size: 11pt;"><strong>Klasa 3</strong>&nbsp;? 
 ?Katalożek ilustrowany?</span></div><div class="default-style"><span style=
 "font-size: 11pt;"><strong>Klasa 4</strong>&nbsp;? ?Katalog alfabetyczny?</
 span></div><div class="default-style"><span style="font-size: 11pt;"><stron
 g>Klasa 5</strong>&nbsp;? ?Katalog rzeczowy&nbsp;? literatura piękna i popu
 larno-naukowa?</span></div><div class="default-style"><span style="font-siz
 e: 11pt;"><strong>Klasa 6&nbsp;</strong>? ?Porządkowanie informacji?</span>
 </div><div class="default-style"><span style="font-size: 11pt;"><strong>Kla
 sa 7</strong>&nbsp;? ?Katalog biblioteczny ? katalog elektroniczny a rzeczo
 wy?</span></div><div class="default-style"><span style="font-size: 11pt;"><
 strong>Klasa 8</strong>&nbsp;? ?Rola biblioteki w życiu współczesnego człow
 ieka?</span></div><div><span style="font-size: 11pt;"></span></div><div>&nb
 sp;</div><div style="text-align: justify;"><span style="font-size: 11pt;">Z
 ajęcia z edukacji czytelniczej są przeznaczone dla zorganizowanych grup ucz
 niów z przedszkoli i szkół podstawowych. Dzieci uczą się jak korzystać ze z
 biorów biblioteki oraz poznają metody sprawnego wyszukiwania i selekcjonowa
 nia informacji. Cel spotkań, czyli rozbudzenie w uczestnikach zainteresowan
 ia biblioteką i czytaniem książek ? jest osiągany metodami pedagogiki zabaw
 y.</span></div></div><div class="attachmentsContainer">

<div class="dbpAtt
 achmentsList" id="attachmentsList_com_jevents_default_1928"></div>

</div>
CONTACT:RegularLabs.EmailProtector.unCloak("ep_628846b9");
X-EXTRAINFO:Wydarzenie zamknięte
DTSTAMP:20260422T110652Z
DTSTART;TZID=UTC:20230131T083000
DTEND;TZID=UTC:20230131T100000
SEQUENCE:0
TRANSP:OPAQUE
END:VEVENT
END:VCALENDAR