BEGIN:VCALENDAR
VERSION:2.0
PRODID:-//jEvents 2.0 for Joomla//EN
CALSCALE:GREGORIAN
METHOD:PUBLISH
BEGIN:VEVENT
UID:275e399b2c1b8df8a09dd978625eccb2
CATEGORIES:American Corner dla młodzieży, Wydarzenie zamknięte
CREATED:20221228T083058
SUMMARY:English speaking countries - customs and lifestyle
LOCATION:American Corner, II piętro, DBP, Rynek 58
DESCRIPTION;ENCODING=QUOTED-PRINTABLE:Warsztaty dla młodzieży z klas 6-8&nbsp; pt. Customs and lifestyle in Engli
 sh speaking world\n\nAmerican Corner zaprasza na bezpłatne warsztaty kultur
 owo-językowe poświęcone krajom anglojęzycznym. Podczas zajęć uczniowie pozn
 ają podstawowy zasób środków językowych w ramach zakresu tematycznego: Cust
 oms and lifestyle in English speaking world.\n\nCzas trwania&nbsp; 60 minut
 .\n\n




CONTACT: RegularLabs.EmailProtector.unCloak("ep_98c588eb");
X-EXTRAINFO:Obowiązują zapisy! E-mail: RegularLabs.EmailProtector.unCloak("ep_5c2852d5"
 );. W treści maila należy podać termin warsztatów, imię i nazwisko oraz nr 
 telefonu.
DTSTAMP:20260422T112633Z
DTSTART;TZID=UTC:20230111T100000
DTEND;TZID=UTC:20230111T110000
SEQUENCE:0
TRANSP:OPAQUE
END:VEVENT
END:VCALENDAR