BEGIN:VCALENDAR
VERSION:2.0
PRODID:-//jEvents 2.0 for Joomla//EN
CALSCALE:GREGORIAN
METHOD:PUBLISH
BEGIN:VEVENT
UID:e38769052f60bf78e7fda6e6ddc09bc3
CATEGORIES:Wydarzenie zamknięte
CREATED:20221129T134317
SUMMARY:Towarzystwo Genealogiczne
LOCATION:Sala nr 35, III piętro, Rynek 58, DBP
DESCRIPTION;ENCODING=QUOTED-PRINTABLE:\n\nTowarzystwo Genealogiczne - spotkanie zamknięte\n




DTSTAMP:20260422T111903Z
DTSTART;TZID=UTC:20221214T170000
DTEND;TZID=UTC:20221214T190000
SEQUENCE:0
TRANSP:OPAQUE
END:VEVENT
END:VCALENDAR