BEGIN:VCALENDAR
VERSION:2.0
PRODID:-//jEvents 2.0 for Joomla//EN
CALSCALE:GREGORIAN
METHOD:PUBLISH
BEGIN:VEVENT
UID:e9594b8391becdc3c3227c661022963b
CATEGORIES:Dla bibliotekarzy, Szkolenia dla bibliotekarzy
CREATED:20221115T125122
SUMMARY: Inspiracja - Aktywizacja ? Innowacja. Biblioteka idealnym miejscem dla dziecka - szkolenie
LOCATION:Sala nr 22, II p., DBP, Rynek 58
DESCRIPTION;ENCODING=QUOTED-PRINTABLE:<p><span style="font-size: 11pt;"><strong>Drodzy bibliotekarze,&nbsp;</stro
 ng></span></p><p style="text-align: justify;"><span style="font-size: 11pt;
 ">Z początkiem grudnia, gdy w powietrzu czuć już zapach goździków i cynamon
 u, wystawy sklepowe kuszą świąteczną ofertą, a z głośników dobiega Jingle B
 ells my proponujemy kilka inspirujących warsztatów i szkoleń.&nbsp;&nbsp;</
 span></p><p><span style="font-size: 11pt;">Wszystkie wydarzenia są bezpłatn
 e, ale obowiązuje rejestracja, a liczba miejsc jest ograniczona.&nbsp;</spa
 n></p><p><span style="font-size: 11pt;">Odbiorcami są bibliotekarze z bibli
 otek publicznych województwa dolnośląskiego.&nbsp;</span></p><p><span style
 ="font-size: 11pt;"><strong>WARSZTAT STACJONARNY&nbsp;</strong></span></p><
 ul><li data-leveltext="?" data-font="Wingdings" data-listid="1" data-list-d
 efn-props="{&quot;335552541&quot;:1,&quot;335559684&quot;:-2,&quot;33555968
 5&quot;:720,&quot;335559991&quot;:360,&quot;469769226&quot;:&quot;Wingdings
 &quot;,&quot;469769242&quot;:[8226],&quot;469777803&quot;:&quot;left&quot;,
 &quot;469777804&quot;:&quot;?&quot;,&quot;469777815&quot;:&quot;hybridMulti
 level&quot;}" aria-setsize="-1" data-aria-posinset="1" data-aria-level="1">
 <span style="font-size: 11pt;">&nbsp;<strong>Inspiracja - Aktywizacja ? Inn
 owacja. Biblioteka idealnym miejscem dla dziecka</strong><strong>&nbsp;</st
 rong></span></li></ul><p><span style="font-size: 11pt;">2 grudnia 2022 roku
 , godz. 9.30-13.30, Dolnośląska Biblioteka Publiczna im. Tadeusza Mikulskie
 go we Wrocławiu, sala szkoleniowa, II p., Rynek 58.&nbsp;<span style="color
 : #ff0000;"></span></span></p><p><span style="font-size: 11pt;">Warsztat zr
 ealizowany w ramach stypendium Ministra Kultury i Dziedzictwa Narodowego&nb
 sp;&nbsp;&nbsp;</span></p><p><span style="font-size: 11pt;">Link do rejestr
 acji:<a href="https://forms.office.com/r/V1q4WDDcBq"></a><a href="https://f
 orms.office.com/r/V1q4WDDcBq">https://forms.office.com/r/V1q4WDDcBq</a>&nbs
 p;&nbsp;</span></p><p><span style="font-size: 11pt;"><strong>KRÓTKO O TEMAC
 IE:</strong> <br /><em>Kiedy masz jakieś wątpliwości, idź do biblioteki</em
 ><br />Ron Weasley</span></p><p style="text-align: justify;"><span style="f
 ont-size: 11pt;"><br />We współczesnym świecie dzieci narażone są na szereg
  różnorodnych bodźców, dlatego tak ważne&nbsp; jest, aby bibliotekarze byli
  na bieżąco zorientowani, jak zachęcić dziecko do uczestnictwa w kulturze, 
 <br />jak uruchomić jego potencjał twórczy, by wizyta w bibliotece, była cz
 ymś atrakcyjnym, wyjątkowym i wyczekiwanym. Podczas warsztatów postaram się
  zainspirować i zaktywizować uczestników, pokazując rozwiązania, które bibl
 iotekarze będą mogli przenieść na grunt swoich placówek. Uczestnicy warszta
 tów, dowiedzą się, jak zwiększyć atrakcyjność swojej placówki wśród dzieci,
  by stały się one stałymi klientami tych instytucji, jak w tym celu wykorzy
 stać dostępne zasoby instytucji&nbsp; i jej otoczenia oraz jak przygotować 
 ofertę dla młodych użytkowników.<br /></span></p><p><span style="font-size:
  11pt;"><strong>PROWADZĄCY</strong>: Paweł Dobrzelecki</span></p><div class
 ="attachmentsContainer">

<div class="dbpAttachmentsList" id="attachmentsLi
 st_com_jevents_default_1838"></div>

</div>
CONTACT:RegularLabs.EmailProtector.unCloak("ep_fdbb5a39");
X-EXTRAINFO:Szkolenia dla bibliotekarzy, obowiązuje rejestracja, liczba miejsc ogranicz
 ona. 
DTSTAMP:20260422T113516Z
DTSTART;TZID=UTC:20221202T090000
DTEND;TZID=UTC:20221202T130000
SEQUENCE:0
TRANSP:OPAQUE
END:VEVENT
END:VCALENDAR