BEGIN:VCALENDAR
VERSION:2.0
PRODID:-//jEvents 2.0 for Joomla//EN
CALSCALE:GREGORIAN
METHOD:PUBLISH
BEGIN:VEVENT
UID:4f1c3a8fce02367ed4bf0139035a3ee0
CATEGORIES:Dla bibliotekarzy, Konferencja biblioteczna
CREATED:20221114T123052
SUMMARY:XX Forum Bibliotekarzy Dolnośląskich 
LOCATION:Sala 35, III piętro, Rynek 58
DESCRIPTION;ENCODING=QUOTED-PRINTABLE:Serdecznie zapraszamy do udziału w XX Forum Bibliotekarzy Dolnośląskich org
 anizowanym przez Dolnośląską Bibliotekę Publiczną im. Tadeusza Mikulskiego 
 we Wrocławiu. Szczególnie zapraszamy na spotkanie dyrektorów, instruktorów 
 i pracowników dolnośląskich bibliotek publicznych oraz osoby kierujące inst
 ytucjami kultury w strukturach, których jest biblioteka.&nbsp;\nProsimy o r
 ejestrację elektroniczną pod linkiem:&nbsp;https://forms.office.com/r/xwun3
 XPJAn\n\nTylko osoby zakwalifikowane otrzymają zaproszenie do udziału na ws
 kazany w rejestracji adres e-mail.\nProgram XX Forum Bibliotekarzy Dolnoślą
 skich\n\ngodz. 09.45 ? 10.00 Rejestracja uczestników\nCZĘŚĆ PIERWSZA: godz.
 &nbsp;10.00 ? 11.20\nOtwarcie Forum&nbsp;?&nbsp;Jolanta Ubowska, Dyrektor D
 olnośląskiej Biblioteki Publicznej im. Tadeusza Mikulskiego we Wrocławiu\nS
 traszna czy (nie)straszna? Literatura grozy a współczesne trendy popkultury
 &nbsp;? Adam Flamma\nSBP na Dolnym Śląsku ? stan na dziś, perspektywy na pr
 zyszłość&nbsp;? Tomasz Grabiński, przewodniczący Okręgu Dolnośląskiego SBP&
 nbsp; &nbsp; &nbsp; &nbsp;&nbsp;\nPrzerwa kawowa\nCZĘŚĆ DRUGA: godz. 12.00 
 ? 13.30\nEdukacja kulturalna w ruchu - jak biblioteki wykorzystują mobilne 
 gry terenowe w promocji czytelnictwa i dziedzictwa lokalnego&nbsp;? Marcin 
 Skrabka\nMaskarada 2086: od szkolenia do premiery&nbsp;? Paulina Szczygieł,
  Ewa Długosz; Dolnośląska Biblioteka Publiczna im. Tadeusza Mikulskiego&nbs
 p; we Wrocławiu\nKiedy budzą się potwory... przygotowanie, realizacja i wni
 oski po premierze gry miejskiej&nbsp;?&nbsp;Katarzyna Brzezicka-Dobrzyńska,
  Joanna Chaszczewicz; Dolnośląska Biblioteka Publiczna im. Tadeusza Mikulsk
 iego we Wrocławiu\nKomunikaty\nZakończenie FORUM/ testowanie gry dla chętny
 ch&nbsp;\n




X-EXTRAINFO:Ilość miejsc ograniczona, obowiązuje rejestracja pod linkiem: https://forms
 .office.com/r/xwun3XPJAn
DTSTAMP:20260422T114929Z
DTSTART;TZID=UTC:20221124T100000
DTEND;TZID=UTC:20221124T133000
SEQUENCE:0
TRANSP:OPAQUE
END:VEVENT
END:VCALENDAR