BEGIN:VCALENDAR
VERSION:2.0
PRODID:-//jEvents 2.0 for Joomla//EN
CALSCALE:GREGORIAN
METHOD:PUBLISH
BEGIN:VEVENT
UID:f3f71de1fceb384e4ca4c811b699c4e5
CATEGORIES:Wydarzenie zamknięte
CREATED:20220928T065539
SUMMARY:CHRISTMAS TRADITIONS all around the World ? zajęcia językowo-kulturowe dla dzieci
LOCATION:American Corner, II piętro, DBP, Rynek 58
DESCRIPTION;ENCODING=QUOTED-PRINTABLE:<p><span style="font-size: 11pt;">American Corner zaprasza dzieci na warszt
 aty świąteczne poświęcone krajom anglojęzycznym. Wspólnie będziemy podróżow
 ać po różnych krajach i poznawać ich świąteczne zwyczaje. Podczas zajęć ucz
 niowie poznają podstawowy zasób środków językowych w ramach zakresu tematyc
 znego związanego ze świętami Bożego Narodzenia.</span></p><p>&nbsp;</p><div
  class="attachmentsContainer">

<div class="dbpAttachmentsList" id="attachm
 entsList_com_jevents_default_1771"></div>

</div>
X-EXTRAINFO:? Warsztaty są przeznaczone dla grup szkolnych klasy 1-6 odpowiednio dostos
 owane do wieku uczestników.\n?  Obowiązują zapisy; e-mail: RegularLabs.Emai
 lProtector.unCloak("ep_04deace5");. W treści maila należy podać termin wars
 ztatów, imię i nazwisko oraz nr telefonu.
DTSTAMP:20260422T104102Z
DTSTART;TZID=UTC:20221207T120000
DTEND;TZID=UTC:20221207T130000
SEQUENCE:0
TRANSP:OPAQUE
END:VEVENT
END:VCALENDAR