BEGIN:VCALENDAR
VERSION:2.0
PRODID:-//jEvents 2.0 for Joomla//EN
CALSCALE:GREGORIAN
METHOD:PUBLISH
BEGIN:VEVENT
UID:f2ef653647932bd07c51458d8d2e4b2a
CATEGORIES:American Corner / Dorośli, Dla dzieci i młodzieży, Wydarzenie zamknięte
CREATED:20220921T112754
SUMMARY:Hawaje, czyli rajskie wyspy w kolorach tęczy
LOCATION:American Corner, II piętro, DBP, Rynek 58
DESCRIPTION;ENCODING=QUOTED-PRINTABLE:American Corner zaprasza na warsztaty podróżniczo przygodowe z elementami j
 ęzyka angielskiego \nUczestnicy warsztatów będą mieli okazję poznać hawajsk
 ą kulturę i tradycje oraz kolorową przyrodę hawajskich wysp. Podczas spotka
 nia dzieci wykonują rozmaite zadania i pogłębiają swoje zdolności manualne,
  poznają słownictwo związane z obszarem wysp hawajskich.\n




CONTACT:RegularLabs.EmailProtector.unCloak("ep_9e82fc7a");
X-EXTRAINFO:? Zajęcia przeznaczone dla grup szkolnych 1-3 klasa szkoły podstawowej, odp
 owiednio dostosowane do wieku uczestników.\n?  Obowiązują zapisy; e-mail: R
 egularLabs.EmailProtector.unCloak("ep_36a1620e");, W treści maila należy po
 dać: termin warsztatów, nazwę szkoły, klasa,  imię i nazwisko oraz nr telef
 onu opiekuna grupy
DTSTAMP:20260422T101551Z
DTSTART;TZID=UTC:20221118T100000
DTEND;TZID=UTC:20221118T110000
SEQUENCE:0
TRANSP:OPAQUE
END:VEVENT
END:VCALENDAR