BEGIN:VCALENDAR
VERSION:2.0
PRODID:-//jEvents 2.0 for Joomla//EN
CALSCALE:GREGORIAN
METHOD:PUBLISH
BEGIN:VEVENT
UID:92101241066b859d0b680bc664e5ebe9
CATEGORIES:Warsztaty dla dorosłych
CREATED:20220921T092427
SUMMARY:Straszy w Cornerze czyli warsztaty halloweenowe dla młodzieży
LOCATION:American Corner, II piętro, DBP, Rynek 58
DESCRIPTION;ENCODING=QUOTED-PRINTABLE:<p style="text-align: justify;">Zapraszamy na straszne warsztaty Halloweeno
 we. ? Odwiedzą nas zjawy, duchy, upiory i pająki, które czyhać będą za każd
 ym rogiem biblioteki! ??????? Nie zabraknie też mrocznych dekoracji oraz up
 iornych historii ?, Podczas warsztatów młodzież pozna święto i zwyczaje z n
 im związane. Podczas zajęć uczniowie poznają podstawowy zasób środków język
 owych w ramach zakresu tematycznego- Halloween.</p><p style="text-align: ju
 stify;">Cukierek albo psikus? Boo!</p><div class="attachmentsContainer">

<
 div class="dbpAttachmentsList" id="attachmentsList_com_jevents_default_1754
 "></div>

</div>
CONTACT:RegularLabs.EmailProtector.unCloak("ep_9c94e654");
X-EXTRAINFO:? Warsztaty są przeznaczone dla grup szkolnych klasy 4-8 szkoły podstawowej
  odpowiednio dostosowane do wieku uczestników\n?  Obowiązują zapisy ? 71-33
 52215; e-mail: W treści maila należy podać: termin warsztatów, nazwę szkoły
 , klasa, imię i nazwisko oraz nr telefonu opiekuna grupy
DTSTAMP:20260422T113515Z
DTSTART;TZID=UTC:20221028T120000
SEQUENCE:0
TRANSP:OPAQUE
END:VEVENT
END:VCALENDAR