BEGIN:VCALENDAR
VERSION:2.0
PRODID:-//jEvents 2.0 for Joomla//EN
CALSCALE:GREGORIAN
METHOD:PUBLISH
BEGIN:VEVENT
UID:33d09193288c74c130aeb9a968ceb332
CATEGORIES:Warsztaty dla dorosłych
CREATED:20220915T101612
SUMMARY:Warsztaty: Jak to działa? American Inventors  
LOCATION:American Corner, II piętro, DBP, Rynek 58
DESCRIPTION;ENCODING=QUOTED-PRINTABLE:Zapraszamy na bezpłatne warsztaty do American Corner zamiast lekcji technik
 i!Tym razem uczestnicy będą mieli okazję zapoznać się z sylwetkami amerykań
 skich wynalazców i ich osiągnięć.&nbsp;Głównym celem warsztatów jest opanow
 anie przez uczniów praktycznych metod działań technicznych poprzez realizac
 ję prostych projektów, opartych na przetwarzaniu różnych materiałów przy uż
 yciu odpowiednich narzędzi i urządzeń. Zajęcia mają poszerzać wiedzę dzieci
  z zakresu STEM (Science, Technology, Engineering, Mathematics), uczyć logi
 cznego myślenia, rozwiązywania problemów, praktycznego wykorzystania zdolno
 ści manualnych i umiejętności pracy w grupie oraz szukania kreatywnych spos
 obów na osiągnięcie celu.




CONTACT:RegularLabs.EmailProtector.unCloak("ep_c77fc0d3");
X-EXTRAINFO:? Warsztaty American Inventors skierowane są dla wszystkich uczniów z klas 
 IV-VIII.\n\n? Obowiązują zapisy ? 71-3352215; e-mail: RegularLabs.EmailProt
 ector.unCloak("ep_a0ea65bf");
DTSTAMP:20260422T113039Z
DTSTART;TZID=UTC:20221007T100000
DTEND;TZID=UTC:20221007T110000
SEQUENCE:0
TRANSP:OPAQUE
END:VEVENT
END:VCALENDAR