BEGIN:VCALENDAR
VERSION:2.0
PRODID:-//jEvents 2.0 for Joomla//EN
CALSCALE:GREGORIAN
METHOD:PUBLISH
BEGIN:VEVENT
UID:0ff7d4e5164ae9a14fea7e59af307131
CATEGORIES:Cykl: ?Kadry z podróży?
CREATED:20220722T063100
SUMMARY:Kadry z podróży: Polska - wybrzeża, góry, nieboskłony 
LOCATION:Sala 35, III piętro
DESCRIPTION;ENCODING=QUOTED-PRINTABLE:Podczas trzeciego spotkania z cyklu ?Kadry z podróży? udamy się na wędrówkę
  po Polsce. Poznamy piękno jej wybrzeża oraz wyjątkowość gór. Zetkniemy się
  z pięknem polskiej wsi, nad którą chmury często tworzą wyjątkowe kształty 
 - zarówno ponad horyzontem, jak i tuż nad glebą, muskając liście dzikich ja
 błoni. Zachwycimy się rzadkimi zjawiskami, w tym zorzą polarną tańczącą nad
  Bałtykiem i czerwoną tęczą wyginającą się nad ścierniskiem. Poznamy wyjątk
 owość najdzikszych gór w Polsce, które nie znają granic i bezgranicznie zac
 hwycają.&nbsp;Patryk Biegański ? fotograf, jeden z najlepszych pejzażystów,
  podróżnik. Powiązanie tych dwóch pasji daje mu motywację do wyruszania w f
 otogeniczne i ciekawe kulturowo miejsca. Jego prace wyróżniane są na wielu 
 polskich i zagranicznych portalach, m.in. National Geographic America.




CONTACT:Szczegółowe informacje: 71 335 22 53
X-EXTRAINFO:Wstęp wolny
DTSTAMP:20260422T113039Z
DTSTART;TZID=UTC:20220926T170000
DTEND;TZID=UTC:20220926T180000
SEQUENCE:0
TRANSP:OPAQUE
END:VEVENT
END:VCALENDAR