BEGIN:VCALENDAR
VERSION:2.0
PRODID:-//jEvents 2.0 for Joomla//EN
CALSCALE:GREGORIAN
METHOD:PUBLISH
BEGIN:VEVENT
UID:2dc7c18cf84eb864bf3561a23c0853ee
CATEGORIES:Szkolenia dla czytelników
CREATED:20180417T075033
SUMMARY:Spotkanie przyjaciół ludzi z chorobą Parkinsona
LOCATION:Sala im. Tadeusza Mikulskiego, III piętro
DESCRIPTION;ENCODING=QUOTED-PRINTABLE:<div style="text-align: justify;">	<span style="font-size:14px;">Koło Przyj
 aci&oacute;ł Ludzi z Chorobą Parkinsona TWK - Wrocław i Zarząd Oddziału Woj
 ew&oacute;dzkiego Polskiego Towarzystwa Walki z Kalectwem we Wrocławiu zapr
 aszają na konferencję naukową z okazji Światowego Dnia Os&oacute;b z Chorob
 ą Parkinsona. W programie: <strong>&bdquo;</strong><strong>Zachorowanie na 
 chorobę Parkinsona jako ryzyko rozwoju łagodnych zaburzeń poznawczych (MCI)
  i otępienia&rdquo; </strong>&ndash; <strong>dr n. med. Renata Wallner </st
 rong>&ndash; Katedra i Klinika Psychiatrii Uniwersytetu Medycznego we Wrocł
 awiu oraz <strong>&bdquo;Niefarmakologiczne metody oddziaływania w chorobie
  Parkinsona na przykładzie stymulacji poznawczej&rdquo; &ndash; mgr Adriann
 a Senszyszyn </strong>&ndash; Katedra i Klinika Psychiatrii Uniwersytetu Me
 dycznego we Wrocławiu<strong>. </strong>Zapraszamy osoby chore, ich rodziny
  i opiekun&oacute;w oraz wszystkie osoby zainteresowane.</span></div><div s
 tyle="text-align: justify;">	[artSep color=#D30000][/artSep]</div><div styl
 e="text-align: justify;">	Koło Przyjaci&oacute;ł Ludzi z Chorobą Parkinsona
  TWK-Wrocław zostało utworzone w 1997 r. i działa w ramach Polskiego Towarz
 ystwa Walki z Kalectwem we Wrocławiu.<br />	<span style="color:#B22222;">?<
 /span> Najważniejszymi celami stowarzyszenia są: rozpowszechnianie informac
 ji o chorobie Parkinsona, metodach leczenia i stosowanych terapiach oraz or
 ganizowanie rehabilitacji i samopomocy członkowskiej mającej przeciwdziałać
  postawom rezygnacji, osamotnienia i bezradności, zwłaszcza wśr&oacute;d os
 &oacute;b najciężej poszkodowanych.<br />	<span style="color:#B22222;">?</s
 pan> Koło organizuje comiesięczne spotkania szkoleniowe ze specjalistami z 
 Kliniki Neurologii, wyższych uczelni i firm farmakologicznych, cotygodniowe
  zajęcia rehabilitacyjne w sali gimnastycznej i w terenie, konferencje nt. 
 choroby Parkinsona, integracyjne spotkania towarzyskie oraz imprezy kultura
 lne, turnusy rehabilitacyjne i wycieczki. Rozprowadza materiały informacyjn
 e, biuletyny i poradniki na temat choroby.<br />	[artSep color=#ac9c0c][/ar
 tSep]<span style="color:#B22222;">? </span>Spotkania szkoleniowe odbywają s
 ię w drugie wtorki miesiąca w budynku Dolnośląskiej Biblioteki Publicznej w
 e Wrocławiu Rynek 58, III piętro sala 35, od godz.16.00.<br />	<span style=
 "color:#B22222;">? </span>Spotkania i dyżury członk&oacute;w Zarządu Koła w
  2017 roku: 10 stycznia, 14 lutego, 7 marca, 4 kwietnia, 9 maja, 6 czerwca,
  5 września, 3 października, 7 listopada, 5 grudnia. Spotkania odbywają się
  w lokalu TWK we Wrocławiu.[artSep color=#ac9c0c][/artSep]<strong>Kontakt:<
 /strong> &nbsp;<br />	Polskie Towarzystwo Walki z Kalectwem &ndash; TWK&nbs
 p; Oddział Wojew&oacute;dzki we Wrocławiu ul. Jedności Narodowej 121, 50-30
 1 Wrocław, tel. 71 322 84 44, e-mail: <!-- This email address is being prot
 ected from spambots. --><span class="cloaked_email ep_ba5355af"><span data-
 ep-a="&#116;&#119;k" data-ep-b="p&#108;"><span data-ep-b="&#97;&#119;&#46;"
  data-ep-a="&#64;&#116;&#119;"><span data-ep-b="&#111;cl" data-ep-a="&#107;
 &#119;&#114;"></span></span></span></span><script>RegularLabs.EmailProtecto
 r.unCloak("ep_ba5355af");</script>; www.twkwroclaw.pl<br />	Biuro jest czyn
 ne codziennie (z wyjątkiem świąt i czwartk&oacute;w) w godz. 9.00-13.00, w 
 czwartki od godz. 15.00 do 18.00.</div><br />&nbsp;<div class="attachmentsC
 ontainer">

<div class="dbpAttachmentsList" id="attachmentsList_com_jevents
 _default_1013"></div>

</div>
CONTACT:Wstęp wolny!
DTSTAMP:20260422T114959Z
DTSTART;TZID=UTC:20180417T160000
DTEND;TZID=UTC:20180417T173000
SEQUENCE:0
TRANSP:OPAQUE
END:VEVENT
END:VCALENDAR