BEGIN:VCALENDAR
VERSION:2.0
PRODID:-//jEvents 2.0 for Joomla//EN
CALSCALE:GREGORIAN
METHOD:PUBLISH
BEGIN:VEVENT
UID:cf03a2867559d5dbfee12dcfc3d14c19
CATEGORIES:Zajęcia dla dzieci
CREATED:20180410T111717
SUMMARY:Indianie Ameryki Północnej ? zajęcia dla dzieci
LOCATION:American Corner, II piętro
DESCRIPTION;ENCODING=QUOTED-PRINTABLE:<div style="text-align: justify;">	<span style="font-size:14px;">American C
 orner zaprasza dzieci na podr&oacute;ż po Wielkich R&oacute;wninach i Preri
 ach. Podczas tych zajęć będziemy wsp&oacute;lnie poznawać kulturę Indian am
 erykańskich. Wsp&oacute;lnie przygotujemy piękne pi&oacute;ropusze z orlich
  pi&oacute;r i malownicze &bdquo;koszule wojenne&rdquo;, dowiemy się, co to
  jest święta fajka pokoju i dlaczego Indianie byli dobrymi tropicielami.</s
 pan><br />	<span style="color:#ac9c0c;">- - - - - - - - - - - - - - - - - -
  - - - - - - - - - -</span><br />	<span style="font-size:12px;"><span style
 ="color: rgb(178, 34, 34);">?</span><span style="color: rgb(128, 0, 0);"> <
 /span>Warsztaty są przeznaczone dla dzieci w wieku 7-10 lat.<br />	<span st
 yle="color: rgb(178, 34, 34);">?</span> Obowiązują zapisy &ndash; 71-335221
 5, e-mail: <span style="font-family: helvetica;"><!-- This email address is
  being protected from spambots. --><span class="cloaked_email ep_3173a756">
 <span data-ep-a="a&#109;&#99;o" data-ep-b=""><span data-ep-b="&#99;&#46;&#1
 12;&#108;" data-ep-a="&#114;&#110;&#101;&#114;"><span data-ep-b="&#46;&#119
 ;ro" data-ep-a="&#64;wbp"></span></span></span></span><script>RegularLabs.E
 mailProtector.unCloak("ep_3173a756");</script></span><br />	W treści maila 
 należy podać termin warsztat&oacute;w, imię i nazwisko oraz nr telefonu opi
 ekuna klasy, nazwę szkoły.</span><br />	<span style="color:#D30000;">- - - 
 - - - - - - - - - - - - - - - - - - - - - - - - -</span>	<div style="text-a
 lign: justify;">		<span style="font-family:helvetica;"><span style="font-si
 ze: 12px;"><span style="color:#D30000;">Uwaga! </span>W czasie prowadzonych
  w dziale warsztat&oacute;w dostęp do p&oacute;łek i możliwość zwrotu/wypoż
 yczenia materiał&oacute;w mogą być ograniczone. </span></span></div></div><
 div class="attachmentsContainer">

<div class="dbpAttachmentsList" id="atta
 chmentsList_com_jevents_default_1007"></div>

</div>
CONTACT:Obowiązują zapisy!
DTSTAMP:20260422T102513Z
DTSTART;TZID=UTC:20180411T110000
DTEND;TZID=UTC:20180411T123000
SEQUENCE:0
TRANSP:OPAQUE
END:VEVENT
END:VCALENDAR