BEGIN:VCALENDAR
VERSION:2.0
PRODID:-//jEvents 2.0 for Joomla//EN
CALSCALE:GREGORIAN
METHOD:PUBLISH
BEGIN:VEVENT
UID:d8e1efe3313e1ea6b5c43b9b5380a6db
CATEGORIES:Pokaz zdjęć
CREATED:20180313T115403
SUMMARY:?Prawda o Lulu? ? projekcja w Bibliotece Romańskiej
LOCATION:Biblioteka Romańska, III piętro
DESCRIPTION;ENCODING=QUOTED-PRINTABLE:<div style="text-align: justify;">	<span style="font-size:14px;"><span styl
 e="font-family: helvetica;">Zapraszamy na </span></span><span style="font-s
 ize:14px;"> organizowaną w ramach Festiwalu Frankofonii 2018 </span><span s
 tyle="font-size:14px;"><span style="font-family: helvetica;">projekcję film
 u francuskiego pt. <strong>&bdquo;</strong></span><strong>Lulu, femme nue</
 strong><span style="font-family: helvetica;"><strong>&rdquo;</strong><stron
 g> </strong>(&bdquo;Prawda o Lulu&rdquo;) w reżyserii </span>Solveig Anspac
 h. </span></div><div style="text-align: justify;">	<br />	<em><span style="
 font-size:14px;">Po kolejnej nieudanej rozmowie kwalifikacyjnej Lulu, zamia
 st wr&oacute;cić do męża i tr&oacute;jki dzieci, daje sobie kilka dni wolno
 ści, kt&oacute;re spędza sama, nad morzem, bez cienia poczucia winy. Po dro
 dze spotyka kilku niezwykłych ludzi. Dzięki tym spotkaniom, Lulu odnajdzie 
 inną starą znajomość, kt&oacute;rą straciła z oczu dawno temu: siebie samą.
 </span></em></div><div style="text-align: justify;">	<span style="font-size
 :14px;"><span style="font-family: helvetica;"><span style="color:#ac9c0c;">
 <em>- - - - - - - - </em>- - - - - - - - - - -</span></span></span></div><d
 iv style="color: rgb(0, 0, 0); font-family: tahoma,&quot;new york&quot;,tim
 es,serif; font-size: 16px; font-style: normal; font-variant-ligatures: norm
 al; font-variant-caps: normal; font-weight: normal; letter-spacing: normal;
  text-indent: 0px; text-transform: none; white-space: normal; word-spacing:
  0px; -webkit-text-stroke-width: 0px; background-color: rgb(253, 252, 251);
  text-decoration-style: initial; text-decoration-color: initial; text-align
 : justify;">	<span style="font-size:12px;"><span style="font-family: helvet
 ica;"><span style="color: rgb(211, 0, 0);">?</span> Uwaga! Film w języku fr
 ancuskim z polskimi napisami</span></span></div><div class="attachmentsCont
 ainer">

<div class="dbpAttachmentsList" id="attachmentsList_com_jevents_de
 fault_997"></div>

</div>
CONTACT:Kontakt:\nMarzena Matuszczak\n71 33-52-222
X-EXTRAINFO:Wstęp wolny! 
DTSTAMP:20260422T114959Z
DTSTART;TZID=UTC:20180320T180000
DTEND;TZID=UTC:20180320T200000
SEQUENCE:0
TRANSP:OPAQUE
END:VEVENT
END:VCALENDAR