BEGIN:VCALENDAR
VERSION:2.0
PRODID:-//jEvents 2.0 for Joomla//EN
CALSCALE:GREGORIAN
METHOD:PUBLISH
BEGIN:VEVENT
UID:8b29071f7181f439b37ab705c270ccc9
CATEGORIES:Pokaz zdjęć
CREATED:20180308T065132
SUMMARY:?Bettie wyrusza w drogę? ? projekcja w Bibliotece Romańskiej
LOCATION:Biblioteka Romańska, III piętro
DESCRIPTION;ENCODING=QUOTED-PRINTABLE:<div style="color: rgb(0, 0, 0); font-style: normal; font-variant-ligatures
 : normal; font-variant-caps: normal; font-weight: 400; letter-spacing: norm
 al; text-indent: 0px; text-transform: none; white-space: normal; word-spaci
 ng: 0px; -webkit-text-stroke-width: 0px; background-color: rgb(253, 252, 25
 1); text-decoration-style: initial; text-decoration-color: initial; text-al
 ign: justify;">	<span style="font-size:14px;"><span style="font-family: hel
 vetica;">W ramach Festiwalu Frankofonii 2018 (więcej informacji <a href="ht
 tp://www.wbp.wroc.pl/wbp/index.php?option=com_content&amp;view=article&amp;
 id=2144" target="_blank">tutaj <span style="color:#D30000;">&gt;&gt;</span>
 )</a> z</span><span style="font-family: tahoma, &quot;new york&quot;, times
 , serif;"><span style="font-family: helvetica;">apraszamy na projekcję film
 u francuskiego pt. <strong>&bdquo;</strong></span></span><strong>Elle s&#39
 ;en va</strong><span style="font-family: tahoma, &quot;new york&quot;, time
 s, serif;"><span style="font-family: helvetica;"><strong>&rdquo;&nbsp;</str
 ong> (&bdquo;</span></span>Bettie wyrusza w drogę<span style="font-family: 
 tahoma, &quot;new york&quot;, times, serif;"><span style="font-family: helv
 etica;">&rdquo;) </span>w reżyserii </span><strong>Emmanuelle Bercot</stron
 g>, z <strong>CATHERINE DENEUVE</strong> w roli gł&oacute;wnej.</span></div
 ><div style="color: rgb(0, 0, 0); font-family: tahoma, &quot;new york&quot;
 , times, serif; font-size: 16px; font-style: normal; font-variant-ligatures
 : normal; font-variant-caps: normal; font-weight: 400; letter-spacing: norm
 al; text-indent: 0px; text-transform: none; white-space: normal; word-spaci
 ng: 0px; -webkit-text-stroke-width: 0px; background-color: rgb(253, 252, 25
 1); text-decoration-style: initial; text-decoration-color: initial; text-al
 ign: justify;">	<div style="color: rgb(0, 0, 0); font-family: tahoma, &quot
 ;new york&quot;, times, serif; font-size: 16px; font-style: normal; font-va
 riant-ligatures: normal; font-variant-caps: normal; font-weight: 400; lette
 r-spacing: normal; text-indent: 0px; text-transform: none; white-space: nor
 mal; word-spacing: 0px; -webkit-text-stroke-width: 0px; background-color: r
 gb(253, 252, 251); text-decoration-style: initial; text-decoration-color: i
 nitial;">		<br />		<em><span style="font-size:14px;">W życiu sześćdziesięci
 oletniej Bettie nic się nie układa, porzuca ją kochanek, a rodzinna restaur
 acja stoi na progu bankructwa. Załamana, nie wiedząc, co robić dalej, Betti
 e wsiada do samochodu i odjeżdża. To wzruszający i ciepły film o tym, co w 
 życiu ważne: dojrzewaniu, miłości, odpowiedzialności za siebie i swoich bli
 skich.</span></em></div></div><div style="text-align: justify;">	<span styl
 e="font-size:14px;"><span style="font-family: helvetica;"><span style="colo
 r:#ac9c0c;"><em>- - - - - - - - </em>- - - - - - - - - - -</span></span></s
 pan></div><div style="color: rgb(0, 0, 0); font-family: tahoma, &quot;new y
 ork&quot;, times, serif; font-size: 16px; font-style: normal; font-variant-
 ligatures: normal; font-variant-caps: normal; font-weight: normal; letter-s
 pacing: normal; text-indent: 0px; text-transform: none; white-space: normal
 ; word-spacing: 0px; -webkit-text-stroke-width: 0px; background-color: rgb(
 253, 252, 251); text-decoration-style: initial; text-decoration-color: init
 ial; text-align: justify;">	<span style="font-size:12px;"><span style="font
 -family: helvetica;"><span style="color: rgb(211, 0, 0);">?&nbsp;</span>Fil
 m w języku francuskim z polskimi napisami</span></span></div><div class="at
 tachmentsContainer">

<div class="dbpAttachmentsList" id="attachmentsList_c
 om_jevents_default_991"></div>

</div>
CONTACT:Wstęp wolny!
DTSTAMP:20260422T114958Z
DTSTART;TZID=UTC:20180313T180000
DTEND;TZID=UTC:20180313T200000
SEQUENCE:0
TRANSP:OPAQUE
END:VEVENT
END:VCALENDAR