BEGIN:VCALENDAR
VERSION:2.0
PRODID:-//jEvents 2.0 for Joomla//EN
CALSCALE:GREGORIAN
METHOD:PUBLISH
BEGIN:VEVENT
UID:4186529309435147c3cc54740046b43e
CATEGORIES:Pokaz zdjęć
CREATED:20180228T132825
SUMMARY:?Hipokrates? ? projekcja w Bibliotece Romańskiej
LOCATION:Biblioteka Romańska, III piętro
DESCRIPTION;ENCODING=QUOTED-PRINTABLE:	W ramach Festiwalu Frankofonii 2018 (więcej informacji tutaj &gt;&gt;) zap
 raszamy na projekcję filmu francuskiego pt. &bdquo;Hippocrate&rdquo;&nbsp; 
 (&bdquo;Hipokrates&rdquo;) w reżyserii Thomasa Lilti.			\n		Benjamin jest p
 rzekonany, że będzie wielkim lekarzem. Jednak kiedy zaczyna sw&oacute;j pie
 rwszy staż na internie, nic nie dzieje się zgodnie z przewidywaniami. Zderz
 enie ze szpitalną rzeczywistością okazuje się trudnym wyzwaniem. Do tego po
 jawiają się problemy zawodowe, ogromna odpowiedzialność i konfrontacja z lę
 kami własnymi i tymi pacjent&oacute;w.	- - - - - - - - - - - - - - - - - - 
 -	?&nbsp;Film w języku francuskim z polskimi napisami




CONTACT:Wstęp wolny!
DTSTAMP:20260422T114920Z
DTSTART;TZID=UTC:20180306T180000
DTEND;TZID=UTC:20180306T200000
SEQUENCE:0
TRANSP:OPAQUE
END:VEVENT
END:VCALENDAR