BEGIN:VCALENDAR
VERSION:2.0
PRODID:-//jEvents 2.0 for Joomla//EN
CALSCALE:GREGORIAN
METHOD:PUBLISH
BEGIN:VEVENT
UID:96a503dfd301f3f5ea7256fc39ad3be5
CATEGORIES:Giełda książek
CREATED:20180208T131427
SUMMARY:9. DOLNOŚLĄSKI SALON WYDAWNICZY ?SILESIANA?
LOCATION:Stoiska czynne w holu na parterze (czw. 11.00?18.00; pt. 10.00?18.00; sob. 
 10.00?16.00)
DESCRIPTION;ENCODING=QUOTED-PRINTABLE:	Zbliża się dziewiąta edycja targ&oacute;w książki regionalnej SILESIANA &n
 dash; Dolnośląski Salon Wydawniczy. W dniach 19-21 kwietnia 2018 r. zaprasz
 amy do Dolnośląskiej Biblioteki Publicznej we Wrocławiu, gdzie zaprezentują
  się wydawnictwa z całego Dolnego Śląska. Uroczyste otwarcie targ&oacute;w 
 nastąpi w czwartek o godzinie 9.00.\n	- - - - - - - - - - - - - - - - - -\n
 	KONKURSY\n	\n	Jak zawsze przy okazji targ&oacute;w książki regionalnej &bd
 quo;Silesiana&rdquo; ogłosiliśmy dwa konkursy &ndash; jeden adresowany do s
 enior&oacute;w, drugi &ndash; poetycki (szczeg&oacute;ły &gt;&gt;).\n	\n	Og
 łoszenie wynik&oacute;w i wręczenie nagr&oacute;d nastąpi w sobotę 21 kwiet
 nia, kolejno&nbsp; o godzinie 10.00 (&bdquo;Patriotyzm w dziejach mojej rod
 ziny&rdquo;) oraz&nbsp; o godzinie 13.00 (&bdquo;Młody Poeta Dolnego Śląska
 &rdquo;) w sali im. Tadeusza Mikulskiego (III piętro DBP). Tego samego dnia
  wyniki obu konkurs&oacute;w zostaną opublikowane na stronie http://dswsile
 siana.blogspot.com/.\n	- - - - - - - - - - - - - - - - - -\n	PROGRAM\n	\n	P
 odczas targ&oacute;w będzie można zapoznać się z ofertą wydawnictw działają
 cych na Dolnym Śląsku oraz publikacjami dotyczącymi regionu. W programie pr
 zewidziano imprezy literacko-promocyjne, m.in. spotkania autorskie, dyskusj
 e, konferencje i wystawy.\n	Czwartek\n	? 09:00 &ndash; Uroczysta Inauguracj
 a 9. Edycji Targ&oacute;w Książki Silesiana / Jubileusz Wydawnictwa EKO-Gra
 f / Wręczenie Nagrody Silesiana\n	[Sala im. T. Mikulskiego]\n	?11:00 &ndash
 ; Otwarcie stoisk targowych\n	[Galeria pod Plafonem, parter Dolnośląskiej B
 iblioteki Publicznej]\n	? 11:00 &ndash; Krzysztof Głuch: &bdquo;Szlakiem wr
 ocławskich krasnali&rdquo;\n	[Dział Pracy z Dziećmi]\n	? 12:00 &ndash; Hist
 oria niemieckiego obozu koncentracyjnego Gross-Rosen\n	[Sala im. T. Mikulsk
 iego]\n	? 12:00 &ndash; Małgorzata Ulrich-Kornacka: &bdquo;Dolny Śląsk dla 
 młodych odkrywc&oacute;w&rdquo;\n	[sala 21]\n	? 12:15 &ndash; Mariola Jaroc
 ka: &bdquo;Poznaj swoje miasto Wrocław&rdquo;\n	[Dział Pracy z Dziećmi]\n	?
  17:00 &ndash; Maciej Łagiewski: promocja książki &bdquo;Wrocław: wędr&oacu
 te;wka przez wieki&rdquo;\n	[Sala im. T. Mikulskiego]\n	\n	Piątek\n	? 09:30
  &ndash; Justyna Rapacz: &bdquo;Wrocławski Szlak Młodego Turysty&rdquo;\n	[
 Sala im. T. Mikulskiego]\n	? 11:00 &ndash; Mariusz Urbanek: &bdquo;Baśnie D
 olnego Śląska&rdquo;\n	[Dział Pracy z Dziećmi]\n	? 11:00 &ndash; Historia n
 iemieckiego obozu koncentracyjnego Gross-Rosen\n	[Sala im. T. Mikulskiego]\
 n	? 12:00 &ndash; Zbigniew Sobierajski: &bdquo;Im dalej w las... &ndash; bl
 aski i cienie fotografowania przyrody i architektury&rdquo;\n	[sala 21]\n	?
  12:30 &ndash; Arkadiusz F&ouml;rster: &bdquo;Wrocław: Ciekawe dlaczego?&rd
 quo;\n	[Dział Pracy z Dziećmi]\n	? 14:00 &ndash; Marta Miniewicz: &bdquo;Ja
 kim jesteś drzewem? Dlaczego dębom zmiękło serce? Z jakiego powodu osika si
 ę trzęsie? &ndash; czyli dziwne historie nie tylko o drzewach&rdquo;\n	[Sal
 a im. T. Mikulskiego]\n	? 17:00 &ndash; Antoni Bok z Towarzystwa Ziemi Głog
 owskiej: &bdquo;Życie po raz drugi. Odbudowa Starego Miasta w Głogowie 1987
 -2017&rdquo;\n	[Sala im. T. Mikulskiego]\n	? 18:00 &ndash; wycieczka po Sta
 rym Mieście z autorką książek i przewodnikiem miejskim Martą Miniewicz: &bd
 quo;O łysym aniołku, kamiennej głowie i kluskowej bramce, czyli&nbsp; wiecz
 orny spacer z legendami Ostrowa Tumskiego&rdquo;\n	[spotkanie przy moście T
 umskim]\n	\n	Sobota\n	? 10:00 &ndash; wycieczka po Rynku: &bdquo;Z przewodn
 ikiem pod rękę: szlakiem wrocławskich krasnali&rdquo; z pisarką i przewodni
 czką miejską Justyną Rapacz\n	[spotkanie w holu Dolnośląskiej Biblioteki Pu
 blicznej]\n	? 10:00 &ndash; Marek Perzyński: promocja najnowszej książki &b
 dquo;Tajemnice dolnośląskich zamk&oacute;w&rdquo;; ogłoszenie wynik&oacute;
 w konkursu dla senior&oacute;w\n	[Sala im. T. Mikulskiego]\n	? 11:30 &ndash
 ; spotkanie i spacer po Starym Ratuszu z dyrektorem Muzeum Miejskiego Wrocł
 awia Maciejem Łagiewskim\n	[spotkanie pod Muzeum Miejskim Wrocławia, Sukien
 nice 14/15]\n	? 12:00 &ndash; wycieczka &bdquo;Z przewodnikiem pod rękę: sz
 lakiem wrocławskich legend&quot; z pisarką i przewodniczką miejską Justyną 
 Rapacz\n	[spotkanie w holu Dolnośląskiej Biblioteki Publicznej]\n	? 13:00 &
 ndash; spotkanie z dolnośląskim poetą Janem Owczarkiem: &bdquo;Dlaczego kla
 sycy? O poezji Zbigniewa Herberta&rdquo;; ogłoszenie wynik&oacute;w konkurs
 u Młody Poeta Dolnego Śląska\n	[Sala im. T. Mikulskiego]\n	? 15:00 &ndash; 
 wycieczka dla całych rodzin z pisarką i przewodnikiem miejskim Martą Miniew
 icz: &bdquo;Rekordy Wrocławia&rdquo;\n	[spotkanie w holu Dolnośląskiej Bibl
 ioteki Publicznej]\n	? 16.00 &ndash; spotkanie autorskie z Wojciechem Giżą:
  &bdquo;Rośliny chronione Sudet&oacute;w i okolic Wrocławia&rdquo;\n	[Sala 
 im. T. Mikulskiego]\n	- - - - - - - - - - - - - - - - - -\n	WYDAWCY I KSIĄŻ
 KI\n	\n	Na 9. targach książki regionalnej &bdquo;Silesiana&rdquo; sw&oacute
 ;j dorobek zaprezentuje ok. 30 wystawc&oacute;w działających na terenie Dol
 nego Śląska, a także wiele wydawnictw pochodzących spoza naszego wojew&oacu
 te;dztwa, ale Dolnym Śląskiem zainteresowanych. Nie zabraknie innych instyt
 ucji prowadzących działalność wydawniczą: muze&oacute;w, stowarzyszeń, ośro
 dk&oacute;w kultury oraz os&oacute;b indywidualnych. Pełna lista wystawc&oa
 cute;w TUTAJ &gt;&gt;\n	\n	Sporą grupę uczestnik&oacute;w targ&oacute;w sta
 nowią wydawnictwa publikujące książki z pogranicza historii i publicystyki 
 politycznej, książki o tematyce katolickiej, a także publikacje dla dzieci 
 i młodzieży.\n	\n	Interesujące są zwłaszcza książki wydawane przez wrocławs
 kie wydawnictwo Nortom, dotyczące historii Polski i obecnej sytuacji polity
 cznej. II wojnie światowej poświęcone są natomiast publikacje o charakterze
  wspomnieniowym Muzeum Gross-Rosen, dzięki kt&oacute;rym możliwe jest przek
 azanie wiedzy o obozie wsp&oacute;łczesnemu pokoleniu. Ośrodek Pamięć i Prz
 yszłość w swojej ofercie wydawniczej prezentuje pozycje mające na celu upow
 szechnianie powojennej historii i dziedzictwa kulturowego Polski.\n	\n	Nie 
 zabraknie książek dla dzieci, kształtujących postawy czytelnicze oraz pobud
 zających wyobraźnię, a także pomagających poznać i pokochać sw&oacute;j reg
 ion oraz kraj. Wśr&oacute;d wystawc&oacute;w znajdą się Wrocławskie Wydawni
 ctwo eMKa ze swoimi książeczkami o historii Wrocławia czy wrocławskich kras
 nalach; Kołowrocek, tw&oacute;rca serii wydawniczej &bdquo;Dolny Śląsk dla 
 Dzieci&rdquo; oraz Ad Rem, kt&oacute;re w swojej ofercie ma bajki związane 
 z folklorem Karkonoszy oraz &bdquo;bajkowe przewodniki&rdquo; po wybranych 
 miejscowościach Dolnego Śląska.\n	\n	R&oacute;wnie dużą grupę stanowią wyda
 wnictwa publikujące książki dotyczące atrakcji turystycznych i zabytk&oacut
 e;w architektury Dolnego Śląska. Można tutaj wymienić Wrocławski Dom Wydawn
 iczy specjalizujący się w profesjonalnych, bogatych poznawczo przewodnikach
 . Na zwiedzających czekać będą ponadto profesjonalne publikacje kartografic
 zne wydawnictwa Eko-Graf.\n	\n	Będzie sporo literatury pięknej, w kt&oacute
 ;rej celuje wydawnictwo Mamiko z Nowej Rudy, zajmujące się wsp&oacute;łczes
 ną polską poezją i prozą &ndash; często mało znanych, ale zasługujących na 
 uwagę polskich pisarzy i poet&oacute;w.\n	\n	Więcej o wystawcach tutaj &gt;
 &gt;\n	- - - - - - - - - - - - - - - - - -\n	WYSTAWY\n	\n	W ramach projektu
  organizowane są wystawy. W tym roku uhonorujemy 30-lecie działalności Wyda
 wnictwa Ekograf z Wrocławia, kt&oacute;re wydaje mapy turystyczne, plany mi
 ast, atlasy turystyczne i przewodniki. Wydawnictwo jest członkiem afiliowan
 ym przy Międzynarodowej Asocjacji Kartograficznej. Targom będą towarzyszyć 
 r&oacute;wnież wystawy literackie związane z 220. rocznicą urodzin Adama Mi
 ckiewicza oraz tw&oacute;rczością Zbigniewa Herberta.\n	- - - - - - - - - -
  - - - - - - - - - - - - - -\n	? Oficjalny blog Dolnośląskiego Salonu Wydaw
 niczego &bdquo;Silesiana&rdquo; &gt;&gt;\n	? Profil w portalu Facebook &gt;
 &gt;\n




CONTACT:Kontakt:\nKatarzyna Zborowska\n71 33-52-236
X-EXTRAINFO:Wstęp wolny!
DTSTAMP:20260422T112643Z
DTSTART;TZID=UTC:20180419T110000
DTEND;TZID=UTC:20180421T180000
SEQUENCE:0
TRANSP:OPAQUE
END:VEVENT
END:VCALENDAR