BEGIN:VCALENDAR
VERSION:2.0
PRODID:-//jEvents 2.0 for Joomla//EN
CALSCALE:GREGORIAN
METHOD:PUBLISH
BEGIN:VEVENT
UID:3d2b686f80bcf5af086751604ae91639
CATEGORIES:Wykład 
CREATED:20180207T093850
SUMMARY:KOBIETY PRZEŁOMU WIEKÓW: spotkanie z Anną Hajduk
LOCATION:Sala im. Tadeusza Mikulskiego, III piętro
DESCRIPTION;ENCODING=QUOTED-PRINTABLE:W ramach cyklu Dookoła Siedmiu Kontynentów zapraszamy na spotkanie z podróż
 niczką Anną Hajduk pt. ?Kobiety przełomu wieków?. \n \n Podczas wykładu poł
 ączonego z pokazem multimedialnym prelegentka zaprezentuje wykonane w ciągu
  ostatnich 21 lat fotografie kobiet pochodzących z różnych części świata. P
 oprzedzający spotkanie Dzień Kobiet będzie więc okazją do poznania ich styl
 u życia, często zupełnie odmiennego od tego, do jakiego jesteśmy przyzwycza
 jeni. Będziemy mogli m.in. zobaczyć tradycyjne stroje czy ozdoby, a także d
 owiedzieć się nieco więcej na temat ról społecznych przypisywanych kobietom
  w różnych zakątkach globu.\n \n Zapraszamy!




CONTACT:Wstęp wolny!
DTSTAMP:20260422T102110Z
DTSTART;TZID=UTC:20180309T170000
DTEND;TZID=UTC:20180309T183000
SEQUENCE:0
TRANSP:OPAQUE
END:VEVENT
END:VCALENDAR