BEGIN:VCALENDAR
VERSION:2.0
PRODID:-//jEvents 2.0 for Joomla//EN
CALSCALE:GREGORIAN
METHOD:PUBLISH
BEGIN:VEVENT
UID:ff0344665f2015ffe461d22ecc1063f7
CATEGORIES:Zajęcia dla dzieci
CREATED:20180126T114053
SUMMARY:New York ? secrets, stories and the other cool stuff!
LOCATION:American Corner, II piętro
DESCRIPTION;ENCODING=QUOTED-PRINTABLE:<div style="text-align: justify;">	<span style="font-size:14px;">Nowy Jork 
 to jedno z najbardziej niezwykłych miejsc na świecie. &bdquo;Wielkie Jabłko
 &rdquo;, jak nazywany jest przez Amerykanów Nowy Jork, to jedno z najbogats
 zych i najbiedniejszych miejsc w USA jednocześnie. Jednym z najważniejszych
  znaków rozpoznawczych Nowego Jorku, poza żółtymi taksówkami, Central Parki
 em jest panorama Manhattanu, pełna drapaczy chmur.  <br />	<br />	Podczas s
 potkania zabierzemy Was w niezwykłą podróż. Przejdziemy się Piątą Aleją do 
 zoo w Central Parku,  poznamy szał reklam i neonów na Times Square oraz his
 torię najważniejszego symbolu Ameryki &ndash; Statuy Wolności. Oczywiście 6
 0 minut to za mało, żeby odwiedzić wszystkie nowojorskie atrakcje, ale wyst
 arczy żeby odczuć wyjątkowy klimat tej słynnej metropolii. Zapraszamy!</spa
 n><br />	<span style="color:#ac9c0c;">- - - - - - - - - - - - - - - - - - -
  - - - - - - - - -</span><br />	<span style="font-size:12px;"><span style="
 color: rgb(178, 34, 34);">?</span></span><span style="font-size:14px;"><spa
 n style="font-size:12px;"><span style="color: rgb(128, 0, 0);"> </span>Wars
 ztaty są przeznaczone dla dzieci w wieku 7-12 lat.</span></span><br />	<spa
 n style="font-size:12px;"><span style="color: rgb(178, 34, 34);">?</span></
 span><span style="font-size:14px;"><span style="font-size:12px;"> Obowiązuj
 ą zapisy &ndash; 71-3352215; e-mail: </span></span><span style="font-size:1
 2px;"><span id="OBJ_PREFIX_DWT4562_com_zimbra_email"><!-- This email addres
 s is being protected from spambots. --><a href="javascript:/* This email ad
 dress is being protected from spambots.*/" target="_blank"><span class="clo
 aked_email ep_ff8ba7cd"><span data-ep-b="" data-ep-a="&#97;&#109;co"><span 
 data-ep-a="r&#110;&#101;&#114;" data-ep-b="&#99;.&#112;&#108;"><span data-e
 p-b=".&#119;&#114;&#111;" data-ep-a="&#64;&#119;b&#112;"></span></span></sp
 an></span><script>RegularLabs.EmailProtector.unCloak("ep_ff8ba7cd");</scrip
 t><span class="cloaked_email ep_53fb46e7" style="display:none;"><span data-
 ep-a="a&#109;c&#111;" data-ep-b=""><span data-ep-a="&#114;&#110;&#101;r" da
 ta-ep-b="c.&#112;l"><span data-ep-a="&#64;&#119;&#98;p" data-ep-b=".w&#114;
 o"></span></span></span></span></a><script>RegularLabs.EmailProtector.unClo
 ak("ep_53fb46e7", true);</script></span>.<br />	W treści maila należy podać
  termin warsztatów, nazwę szkoły i klasę, imię i nazwisko oraz nr telefonu 
 opiekuna grupy.</span><br />	<span style="color:#D30000;">- - - - - - - - -
  - - - - - - - - - - - - - - - - - - -</span>	<div style="text-align: justi
 fy;">		<span style="font-family:helvetica;"><span style="font-size: 12px;">
 <span style="color:#D30000;">Uwaga! </span>W czasie prowadzonych w dziale w
 arsztatów dostęp do półek i możliwość zwrotu/wypożyczenia materiałów mogą b
 yć ograniczone. </span></span></div></div><div class="attachmentsContainer"
 >

<div class="dbpAttachmentsList" id="attachmentsList_com_jevents_default_
 959"></div>

</div>
CONTACT:Obowiązują zapisy: \nRegularLabs.EmailProtector.unCloak("ep_1dc3d020");\nlub tel. 71 33-52-215
DTSTAMP:20260422T110637Z
DTSTART;TZID=UTC:20180327T110000
DTEND;TZID=UTC:20180327T120000
SEQUENCE:0
TRANSP:OPAQUE
END:VEVENT
END:VCALENDAR