BEGIN:VCALENDAR
VERSION:2.0
PRODID:-//jEvents 2.0 for Joomla//EN
CALSCALE:GREGORIAN
METHOD:PUBLISH
BEGIN:VEVENT
UID:35090842fb67eff02fb0c912f34c03dd
CATEGORIES:Cykl: "Tradycje wielu kultur"
CREATED:20180125T065409
SUMMARY:TRADYCJE WIELU KULTUR ? Obchody świąt narodowych w Polsce na przestrzeni lat
LOCATION:Sala im. Tadeusza Mikulskiego, III piętro
DESCRIPTION;ENCODING=QUOTED-PRINTABLE:<div style="text-align: justify;">	<span style="font-size:14px;"><strong>W 
 ramach listopadowego spotkania zapraszamy na wykład historyczny Patrycji Bl
 ak, kt&oacute;ra poruszy temat świąt narodowych w Polsce.</strong><br />	<b
 r />	W 2018 roku obchodzimy 100. rocznicę odzyskania przez Polskę niepodleg
 łości. To wyjątkowy jubileusz, kt&oacute;rego celebracja pociąga za sobą sz
 ereg imprez towarzyszących o randze państwowej. Fetowanie Święta Niepodległ
 ości nasuwa pytanie, jak obchodzono święta narodowe na przestrzeni czasu. J
 akie święta narodowe celebrowano? Czy kalendarz świąt państwowych ulegał zm
 ianie? Watpliwości nasuwa też nazewnictwo. Czy istnieje r&oacute;żnica mied
 zy świętem państwowym i narodowym? Czym są dni o charakterze świąt państwow
 ych? Na te pytania postaramy się odpowiedzieć, zabierając Państwa w sentyme
 ntalną podr&oacute;ż do czas&oacute;w tak odległych, jak wiek XVIII, okres 
 międzywojenny, czasy PRL-u aż po wsp&oacute;łczesność.</span></div><div sty
 le="text-align: justify;">	<span style="color:#ac9c0c;">- - - - - - - - - -
  - - - - - - - - - - - - - - - - - - - - - - - - -</span><br />	<span style
 ="font-size:12px;"><span style="color: rgb(128, 0, 0);">? </span>&bdquo;Tra
 dycje wielu kultur&rdquo; to cykl spotkań poświęcony tradycjom innych narod
 &oacute;w oraz zwyczajom panującycm w odmiennych kulturach. Jego gł&oacute;
 wnym celem jest propagowanie r&oacute;żnorodności i r&oacute;wności. Na pre
 lekcje zapraszani są przedstawiciele r&oacute;żnych grup etnicznych i relig
 ii, kt&oacute;rzy zaznajamiają słuchaczy ze swoimi obyczajami, poglądami cz
 y wierzeniami. Prelegentami są m. in. przedstawiciele cerkwi, wyznawcy isla
 mu czy kościoła ewangelicko-augsburskiego. </span></div><div class="attachm
 entsContainer">

<div class="dbpAttachmentsList" id="attachmentsList_com_je
 vents_default_955"></div>

</div>
CONTACT:Wstęp wolny!\nSzczegółowe informacje \npod nr tel.: 71 335 22 53
DTSTAMP:20260422T095934Z
DTSTART;TZID=UTC:20181107T160000
DTEND;TZID=UTC:20181107T170000
SEQUENCE:0
TRANSP:OPAQUE
END:VEVENT
END:VCALENDAR