BEGIN:VCALENDAR
VERSION:2.0
PRODID:-//jEvents 2.0 for Joomla//EN
CALSCALE:GREGORIAN
METHOD:PUBLISH
BEGIN:VEVENT
UID:6348e59ef04c77498f4942c00b488777
CATEGORIES:Wykład 
CREATED:20180118T083259
SUMMARY:BIBLIOTEKA POD GWIAZDAMI: Zaglądając do wnętrza gwiazd: od helio- do asterosejsmologii
LOCATION:Sala im. Tadeusza Mikulskiego, III piętro
DESCRIPTION;ENCODING=QUOTED-PRINTABLE:<div style="text-align: justify;"><strong><span style="font-size: 14px;">Za
 praszamy na kolejny wykład z cyklu </span></strong><span style="font-size: 
 14px;"><strong>?Biblioteka pod gwiazdami. Spotkania z astronomią?</strong><
 /span><strong><span style="font-size: 14px;"> </span><span style="font-size
 : 14px;">organizowanego przez Dolnośląską Bibliotekę Publiczną.</span></str
 ong><br /> <br /> <span style="font-size: 14px;">Podczas czerwcowego spotka
 nia prelekcję <strong>?Zaglądając do wnętrza gwiazd: od helio- do asterosej
 smologii?</strong> przeprowadzi prof. dr hab. Jadwiga Daszyńska-Daszkiewicz
 .<br /> <br /> Ponad pół wieku temu odkryto subtelne drgania powierzchni Sł
 ońca o okresie około 5 minut. Zjawisko to powiązano z rozchodzącymi się we 
 wnętrzu naszej dziennej gwiazdy falami akustycznymi. Wkrótce oscylacje te z
 ostały wykorzystane do badania wnętrza Słońca, podobnie jak fale geosejsmic
 zne do badania wnętrza Ziemi. Narodziła się heliosejsmologia, dzięki której
  dokonano największego postępu w zrozumieniu budowy wewnętrznej Słońca.<br 
 /> <br /> Oscylacje wzbudzane są również w innych gwiazdach; o różnej masie
 , wielkości i na różnych etapach ewolucyjnych. Zwiększenie precyzji obserwa
 cji i wykrywanie zmian jasności o coraz mniejszych amplitudach, w szczególn
 ości dzięki misjom kosmicznym MOST, CoRoT, Kepler, BRITE, pozwoliło ?zajrze
 ć? również do wnętrza innych, odległych gwiazd. Obecnie asterosejsmologia j
 est jedną z najbardziej dynamicznie rozwijających się gałęzi astrofizyki.<b
 r /> <span style="color: #ac9c0c;">- - - - - - - - - - - - - - - - - - - - 
 - - - - - - </span></span><br /> <span style="font-size: 12px;"><span class
 ="_4n-j _3cht fsl" data-testid="event-permalink-details"><span class="text_
 exposed_show"><span style="color: #d30000;">?</span></span></span><strong>?
 Biblioteka pod gwiazdami. Spotkania z astronomią? </strong>to pięć otwartyc
 h wykładów popularnonaukowych prowadzonych we współpracy z pracownikami Ins
 tytutu&nbsp; Astronomicznego Uniwersytetu Wrocławskiego. Celem wykładów jes
 t popularyzacja astronomii i zagadnień dotyczących kosmosu oraz księgozbior
 u biblioteki. Kosmos od wieków wzbudza w ludziach ciekawość, fascynuje, a z
 arazem napawa lękiem. Codziennie możemy obserwować gołym okiem wędrówkę Sło
 ńca po niebie, widoczny jest Księżyc, którego blask zagląda nam do okien, a
  w bezchmurną noc podziwiamy rozgwieżdżony firmament. Proponowany przez nas
  cykl spotkań pozwoli dostrzec jeszcze więcej zjawisk, które zachodzą we Ws
 zechświecie.<strong> Pracownicy Instytutu Astronomicznego Uniwersytetu Wroc
 ławskiego</strong> opowiedzą o tajemnicach nocnego nieba. Przybliżą w przys
 tępny sposób miłośnikom astronomii wybrane zagadnienia dotyczące kosmosu.</
 span><br /> <span style="font-size: 14px;"><span style="color: #ac9c0c;">- 
 - - - - - - - - - - - - - - - - - - - - - - - - - -</span></span><br /> <sp
 an class="_4n-j _3cht fsl" data-testid="event-permalink-details"><span styl
 e="font-size: 14px;"><span class="text_exposed_show"><span style="font-size
 : 12px;"><span style="color: #d30000;">? </span></span></span></span></span
 ><span style="font-size: 14px;"><span style="font-size: 12px;"><strong>Zach
 ęcamy do zapoznania się z księgozbiorem!</strong><br /> <a href="http://pri
 mo-48wbp.hosted.exlibrisgroup.com/primo_library/libweb/action/search.do?ct=
 &amp;pag=&amp;indx=1&amp;pageNumberComingFrom=3&amp;frbg=&amp;indx=21&amp;f
 n=search&amp;dscnt=0&amp;scp.scps=scope%3A(48WBP_WBP)&amp;tb=t&amp;vid=48WB
 P_VIEW&amp;mode=Basic&amp;ct=Next%20Page&amp;srt=rank&amp;tab=all_tab&amp;d
 um=true&amp;vl(freeText0)=gwiazdy%20astronomia&amp;dstmp=1524660131089" tar
 get="_blank" rel="noopener">Gwiazdy ? astronomia <span style="color: #d3000
 0;">&gt;&gt;</span></a></span></span><br /> <span style="font-size: 14px;">
 <span style="color: #ac9c0c;">- - - - - - - - - - - - - - - - - - - - - - -
  - - - -</span></span><br /> <span class="_4n-j _3cht fsl" data-testid="eve
 nt-permalink-details"><span style="font-size: 14px;"><span class="text_expo
 sed_show"><span style="font-size: 12px;"><span style="color: #d30000;">? </
 span><strong>Terminy i tematy kolejnych spotkań:</strong></span></span></sp
 an></span><br /> <span style="font-size: 12px;"><a href="http://www.wbp.wro
 c.pl/wbp/index.php/dla-czytelnikow/kalendarz-dla-czytelnikow/icalrepeat.det
 ail/2018/10/11/1058/-/biblioteka-pod-gwiazdami-wulkany-w-ukladzie-sloneczny
 m" target="_blank" rel="noopener">11 października ? ?Wulkany w Układzie Sło
 necznym? (prof. Andrzej Pigulski) <span style="color: #d30000;">&gt;&gt;</s
 pan></a></span><br /> <a href="http://www.wbp.wroc.pl/wbp/index.php/dla-czy
 telnikow/kalendarz-dla-czytelnikow/icalrepeat.detail/2018/12/13/1059/-/bibl
 ioteka-pod-gwiazdami-paradoks-ciemnego-nocnego-nieba" target="_blank" rel="
 noopener"><span style="font-size: 12px;">13 grudnia ? ?Paradoks ciemnego no
 cnego nieba? (dr Sylwester Kołomański) <span style="color: #d30000;">&gt;&g
 t;</span></span></a><br /> <span style="font-size: 14px;"><span style="colo
 r: #ac9c0c;">- - - - - - - - - - - - - - - - - - - - - - - - - - -</span></
 span></div><div class="attachmentsContainer">

<div class="dbpAttachmentsLi
 st" id="attachmentsList_com_jevents_default_948"></div>

</div>
CONTACT:Wstęp wolny!\nSzczegółowe informacje\npod nr tel.: 71 335 22 53
DTSTAMP:20260422T085623Z
DTSTART;TZID=UTC:20180614T170000
DTEND;TZID=UTC:20180614T180000
SEQUENCE:0
TRANSP:OPAQUE
END:VEVENT
END:VCALENDAR