BEGIN:VCALENDAR
VERSION:2.0
PRODID:-//jEvents 2.0 for Joomla//EN
CALSCALE:GREGORIAN
METHOD:PUBLISH
BEGIN:VEVENT
UID:35d0120d4be70b7e7df44cddaffc4759
CATEGORIES:Wykład 
CREATED:20171211T134852
SUMMARY:LISTY ARTYSTY: Korespondencja Leona Wyczółkowskiego
LOCATION:Sala im. Tadeusza Mikulskiego, III piętro
DESCRIPTION;ENCODING=QUOTED-PRINTABLE:<div style="text-align: justify;"><span style="display: none;"></span><stro
 ng><span style="font-size: 14px;">Zapraszamy na kolejny wykład z cyklu ?Lis
 ty Artysty. Spotkania ze sztuką w bibliotece? organizowanego przez Dolnoślą
 ską Bibliotekę Publiczną.</span></strong><span style="display: none;"></spa
 n><br /> <br /> <span class="_4n-j _3cht fsl" data-testid="event-permalink-
 details"><span style="font-size: 14px;"><span class="text_exposed_show">Na 
 ostatnim spotkaniu zajmiemy się korespondencją <strong>Leona Wyczółkowskieg
 o. </strong></span></span></span><span style="font-size: 14px;">Dla Leona W
 yczółkowskiego natura była najważniejsza. Wyjazdy w plener były dla niego p
 odstawową częścią pracy twórczej. Podróże malarskie na Ukrainę zaowocowały 
 obrazami pełnymi intensywnych barw i światła. Inną fascynacją artysty była 
 sztuka japońska z której zaczerpnął krótką, mocną kreskę i asymetryczne kom
 pozycje. Fascynacja ta była związana z wielką przyjaźnią miedzy artystą a z
 nanym kolekcjonerem Feliksem Jasieńskim. W dość powściągliwej korespondencj
 i do przyjaciela możemy przeczytać tak pełne ekspresji wyznanie ?maluję tak
  wściekle, że aż schudłem ? cudna pogoda?.</span></div><div style="text-ali
 gn: justify;"><br /> <em><span style="font-size: 14px;">Maluję wściekle! Wy
 obraź sobie ? byłem w Borze Ciemnosmerczyńskim, jestem oczarowany ? przywio
 złem kilka studii, ale to mnie nie zadowala.</span></em><br /> [Z listu do 
 Feliksa Jasieńskiego, ok. 1905]<br /> <span style="font-size: 14px;"><span 
 style="color: #ac9c0c;">- - - - - - - - - - - - - - - - - - - - - - - - - -
  -</span></span><br /> <span class="_4n-j _3cht fsl" data-testid="event-per
 malink-details"><span style="font-size: 14px;"><span class="text_exposed_sh
 ow"><span style="font-size: 12px;"><span style="color: #d30000;">? </span><
 /span></span></span></span><span style="font-size: 14px;"><span style="font
 -size: 12px;"><strong>Listy dostępne w Bibliotece, zapraszamy do wypożyczen
 ia!</strong></span></span><br /> Wyczółkowski, Leon. <em>Leon Wyczółkowski:
  listy i wspomnienia</em>. Wrocław: Zakład Narodowy im. Ossolińskich, 1960.
  Sygnatura: 100236348<br /> <span style="font-size: 12px;">Link do pozycji 
 w katalogu<span style="color: #d30000;"> </span><a href="http://primo-48wbp
 .hosted.exlibrisgroup.com/primo_library/libweb/action/display.do?tabs=locat
 ionsTab&amp;ct=display&amp;fn=search&amp;doc=48WBP_Aleph_WBP01000996181&amp
 ;indx=2&amp;recIds=48WBP_Aleph_WBP01000996181&amp;recIdxs=1&amp;elementId=1
 &amp;renderMode=poppedOut&amp;displayMode=full&amp;frbrVersion=&amp;frbg=&a
 mp;rfnGrpCounter=1&amp;dscnt=1&amp;scp.scps=scope%3A%2848WBP_WBP%29&amp;tb=
 t&amp;fctV=Wycz%C3%B3%C5%82kowski%2C+Leon&amp;mode=Basic&amp;vid=48WBP_VIEW
 &amp;rfnGrp=1&amp;tab=all_tab&amp;srt=rank&amp;fctN=facet_creator&amp;vl(fr
 eeText0)=Wycz%C3%B3%C5%82kowski&amp;dum=true&amp;dstmp=1515417456760" targe
 t="_blank" rel="noopener"><span style="color: #d30000;">&gt;&gt;</span></a>
 </span><br /> <span style="font-size: 14px;"><span style="color: #ac9c0c;">
 - - - - - - - - - - - - - - - - - - - - - - - - - - </span></span><br /> <s
 pan class="_4n-j _3cht fsl" data-testid="event-permalink-details"><span sty
 le="font-size: 14px;"><span class="text_exposed_show"><span style="font-siz
 e: 12px;"><span style="color: #d30000;">? </span></span></span></span></spa
 n><span style="font-size: 14px;"><span style="font-size: 12px;"><strong>?Li
 sty Artysty. Spotkania ze sztuką w bibliotece? </strong>to pięć otwartych w
 ykładów prowadzonych we współpracy z Muzeum Narodowym we Wrocławiu mających
  na celu popularyzację książek i sztuk plastycznych. Poprzez analizę listów
 , w których poszczególni malarze sami piszą o swojej działalności, możliwe 
 jest ukazanie przebiegu procesu twórczego, odtworzenie kolejnych etapów pra
 cy. Listy artysty to ważne, miarodajne i często niezastąpione źródło wiedzy
  o nurtujących go dylematach, wahaniach, o powodach podejmowanych decyzji, 
 inspiracjach czy przekonaniach. O tym, jak malarze opisują i komentują w li
 stach własną twórczość opowiada <strong>Barbara Przerwa</strong> z Muzeum N
 arodowego we Wrocławiu.</span></span></div><div class="attachmentsContainer
 ">

<div class="dbpAttachmentsList" id="attachmentsList_com_jevents_default
 _917"></div>

</div>
CONTACT:Wstęp wolny!\nSzczegółowe informacje\npod nr tel.: 71 335 22 53
DTSTAMP:20260422T084352Z
DTSTART;TZID=UTC:20181121T160000
DTEND;TZID=UTC:20181121T170000
SEQUENCE:0
TRANSP:OPAQUE
END:VEVENT
END:VCALENDAR