BEGIN:VCALENDAR
VERSION:2.0
PRODID:-//jEvents 2.0 for Joomla//EN
CALSCALE:GREGORIAN
METHOD:PUBLISH
BEGIN:VEVENT
UID:f599a35d15808e0d1f32856517dbadc9
CATEGORIES:Wykład 
CREATED:20171211T130813
SUMMARY:LISTY ARTYSTY: Korespondencja Camille'a Pissarra
LOCATION:Sala im. Tadeusza Mikulskiego, III piętro
DESCRIPTION;ENCODING=QUOTED-PRINTABLE:Zapraszamy na kolejny wykład z cyklu ?Listy Artysty. Spotkania ze sztuką w 
 bibliotece? organizowanego przez Dolnośląską Bibliotekę Publiczną..\n \n Na
  drugim spotkaniu zajmiemy się korespondencją Camille'a Pissarra. Camille P
 issarro był jednym z najważniejszych malarzy impresjonistycznych Po wielu l
 atach poszukiwań i eksperymentowania opracował swój unikalny styl. W środow
 isku artystycznym miał opinię rewolucjonisty i socjalisty. Jego twórczość m
 iała ogromny wpływ na takie sławy malarstwa francuskiego jak Paul Cézanne c
 zy Paul Gauguin, ale naszej uwadze nie może umknąć fakt, że wszystkie dziec
 i Pissarra zajmowały się malarstwem. Prawie dwudziestoletnia korespondencja
  z synem Lucjanem stanowi pasjonującą lekturę o życiu i teoriach artystyczn
 ych Francji przełomu XIX i XX w.\n W tej chwili dokonuje się wielki zwrot w
  sztuce, z przyjemnością stwierdzam oznaki tego. Spotkałem wielu malarzy i 
 krytyków, którzy zdają się dochodzić do przekonania, że dawni impresjoniści
  pozostali w tyle. \n [Z listu do syna Lucjana, 16 V 1887]\n - - - - - - - 
 - - - - - - - - - - - - - - - - - - - -\n ? Listy dostępne w Bibliotece, za
 praszamy do wypożyczenia!\n Pissarro, Camille. Listy do syna Lucjana. Wrocł
 aw, 1971.Sygnatura: 100252071\n Link do pozycji w katalogu &gt;&gt;\n - - -
  - - - - - - - - - - - - - - - - - - - - - - - \n ? ?Listy Artysty. Spotkan
 ia ze sztuką w bibliotece? to pięć otwartych wykładów prowadzonych we współ
 pracy z Muzeum Narodowym we Wrocławiu mających na celu popularyzację książe
 k i sztuk plastycznych.&nbsp; Poprzez analizę listów, w których poszczególn
 i malarze sami piszą o swojej działalności, możliwe jest ukazanie przebiegu
  procesu twórczego, odtworzenie kolejnych etapów pracy. Listy artysty to wa
 żne, miarodajne i często niezastąpione źródło wiedzy o nurtujących go dylem
 atach, wahaniach, o powodach podejmowanych decyzji, inspiracjach czy przeko
 naniach. O tym, jak malarze opisują i komentują w listach własną twórczość 
 opowiada Barbara Przerwa z Muzeum Narodowego we Wrocławiu.\n - - - - - - - 
 - - - - - - - - - - - - - - - - - - - -\n ? Terminy i tematy kolejnych spot
 kań:\n 16 maja 2018 ? Paul Cézanne &gt;&gt;\n 19 września 2018 ? Stanisław 
 Wyspiański &gt;&gt;\n 21 listopada 2018 ? Leon Wyczółkowski &gt;&gt;




CONTACT:Wstęp wolny!\nSzczegółowe informacje\npod nr tel.: 71 335 22 53
DTSTAMP:20260422T085453Z
DTSTART;TZID=UTC:20180321T160000
DTEND;TZID=UTC:20180321T170000
SEQUENCE:0
TRANSP:OPAQUE
END:VEVENT
END:VCALENDAR