BEGIN:VCALENDAR
VERSION:2.0
PRODID:-//jEvents 2.0 for Joomla//EN
CALSCALE:GREGORIAN
METHOD:PUBLISH
BEGIN:VEVENT
UID:9b7498cb99f2ed8f5341e073abf0c9c4
CATEGORIES:Wystawa literacka, Dla dzieci i młodzieży
CREATED:20230207T110703
SUMMARY:Wystawa poświęcona twórczości Kirsten Boie
LOCATION:Korytarz, I piętro, DBP, Rynek 58
DESCRIPTION;ENCODING=QUOTED-PRINTABLE:Mamy przyjemność zaprosić na wystawę na korytarzu na I piętrze DBP, zorgani
 zowaną przez Instytut Goethego, która jest poświęcona bogatej twórczości Ki
 rsten Boie&nbsp;?&nbsp;niemieckiej autorki powieści dziecięcych i młodzieżo
 wych&nbsp;?&nbsp;z okazji 60-tych urodzin pisarki.\nWystawa ta powstała w o
 parciu o prezentację z 2010 roku w Kolegium Nauk Stosowanych w Hamburgu ora
 z w Bibliotece Uniwersyteckiej im. Karla von Ossiezky również w Hamburgu.\n
 BIOGRAM PISARKI:\nKirsten Boie urodziła się w 1950 roku w Hamburgu.\nZanim 
 została pisarką, przez kilka lat pracowała jako nauczycielka. Swoją pierwsz
 ą powieść dla dzieci, zatytułowaną ?Paule ist ein Glücksgriff?, napisała w 
 1985 roku. Powieść okazała się wielkim sukcesem.\nObecnie Boie jest jedną z
  najznamienitszych autorek powieści dla dzieci i młodzieży. Silnie angażuje
  się w akcje mające na celu wspieranie czytelnictwa,&nbsp; jak również wspó
 łpracuje z Instytutem Goethego podróżując oraz propagując literaturę dzieci
 ęcą i młodzieżową.\nKirsten Boie otrzymała za swoją twórczość wiele znacząc
 ych nagród, zarówno w Niemczech jak i w innych krajach. Wielokrotnie była n
 ominowana do nagrody im. Hansa Christiana Andersena. W roku 2007 za swoją t
 wórczość została uhonorowana nagrodą główną Niemieckiej Literatury Młodzież
 owej (Deutscher Jugendliteraturpreis).&nbsp; Z kolei w 2008 roku Boie otrzy
 mała Nagrodę Główną Akademii Literatury dla Dzieci i Młodzieży.&nbsp;\nPryw
 atnie Kirsten Boie mieszka z mężem w okolicach Hamburga. Ma dwoje, dorosłyc
 h już, adoptowanych dzieci.\n




CONTACT:RegularLabs.EmailProtector.unCloak("ep_6d7083c5");
X-EXTRAINFO:Wstęp wolny
DTSTAMP:20260422T113019Z
DTSTART;TZID=UTC:20230215T103000
DTEND;TZID=UTC:20230215T103000
SEQUENCE:0
TRANSP:OPAQUE
END:VEVENT
END:VCALENDAR