BEGIN:VCALENDAR
VERSION:2.0
PRODID:-//jEvents 2.0 for Joomla//EN
CALSCALE:GREGORIAN
METHOD:PUBLISH
BEGIN:VEVENT
UID:d0cffafdba194a92c5776b1a0a58389b
CATEGORIES:Dla dzieci i młodzieży, Biblioteczna Akademia Niemowlaka, Biblioteczna Akademia Malucha, Stare i Nowe Spotkania Bajkowe, Zajęcia dla dzieci
CREATED:20221229T094028
SUMMARY:Zajęcia dla dzieci z panią Julią
LOCATION:Dział Pracy z Dziecmi, parter DBP, Rynek 58
DESCRIPTION;ENCODING=QUOTED-PRINTABLE:<div class="default-style" style="text-align: justify;">&nbsp;</div><div><s
 pan style="font-size: 11pt;">Od roku 2023 zapisy odbywać się będą drogą tel
 efoniczną 71 335 22 17 lub osobiście w Dziale Pracy z Dziećmi.<br />Zapisy 
 na zajęcia rozpoczynać się będą każdorazowo w poniedziałek poprzedzający te
 rmin zajęć o godzinie 11:00.&nbsp;</span></div><div class="default-style" s
 tyle="text-align: justify;">&nbsp;</div><div class="default-style" style="t
 ext-align: justify;"><span style="font-size: 11pt;"><strong>Biblioteczna Ak
 ademia Niemowlaka</strong>&nbsp;<br />Dla dzieci: od 6 miesięcy do 1,5 roku
 </span></div><div>G<span style="font-size: 11pt;">odz.10:30-11:30 </span></
 div><div class="default-style" style="text-align: justify;"><span style="fo
 nt-size: 11pt;"></span></div><div>&nbsp;</div><div class="default-style" st
 yle="text-align: justify;"><span style="font-size: 11pt;"><strong><span sty
 le="font-size: 11pt;">Biblioteczna Akademia Malucha&nbsp;<span style="color
 : #ff0000;"><strong><strong>(brak miejsc)</strong></strong></span></span></
 strong><br />Dla dzieci: od 1,5 roku do 4 lat</span></div><div><span style=
 "font-size: 11pt;">Godz. 11:45-12:45 </span></div><div class="default-style
 " style="text-align: justify;">&nbsp;</div><div>&nbsp;</div><div class="def
 ault-style" style="text-align: justify;"><span style="font-size: 11pt;"><st
 rong>Stare i Nowe Spotkania Bajkowe&nbsp;<span style="color: #ff0000;"><str
 ong>(brak miejsc)</strong></span><span style="font-size: 11pt;"></span><spa
 n style="font-size: 11pt;"></span></strong><br />Dla dzieci: od 4 roku do 6
  lat</span></div><div><span style="font-size: 11pt;">Godz. 13:00-14:00 </sp
 an></div><div class="default-style" style="text-align: justify;">&nbsp;</di
 v><div>&nbsp;</div><div><div style="text-align: justify;"><span style="font
 -size: 11pt;">Zajęcia przygotowuje i prowadzi animatorka zabawy oraz muzyk 
 <strong>Julia Szybowska</strong>.</span><div class="dbpArtSep"><span style=
 "font-size: 11pt;"></span></div></div><p style="text-align: justify;"><span
  style="font-size: 11pt;"><strong>?Pani Muzyka?</strong></span></p><p style
 ="text-align: justify;"><span style="font-size: 11pt;">Nazywam się Julia Sz
 ybowska, jestem mamą dwóch uroczych i ślicznych dziewczynek i to właśnie on
 e spowodowały, że zainteresowałam się wpływem muzyki na rozwój dziecka. Uko
 ńczyłam Akademię Muzyczną w Katowicach w klasie śpiewu, dlatego rytmikę pro
 wadzę nie tylko uwzględniając ćwiczenia wokalno-rytmiczne, ruchowe, lecz ró
 wnież zwracając uwagę na śpiew, podstawy artykulacji czy wydobywanie dźwięk
 ów w połączeniu z oddechem. Piosenki, tańce, gra na instrumentach perkusyjn
 ych, zabawy ruchowe z wykorzystaniem chust, piórek, instrumentów perkusyjny
 ch, zabawy paluszkowe, improwizacja wokalna z podkładem znanych piosenek, p
 odstawy logo-rytmiki, a wszystko w akompaniamencie gry na pianinie i muzyki
  klasycznej. Na co dzień prowadzę zajęcia umuzykalniające i rytmiczne we wr
 ocławskich żłobkach i przedszkolach.</span></p></div><div class="default-st
 yle">&nbsp;</div><div class="attachmentsContainer">

<div class="dbpAttachm
 entsList" id="attachmentsList_com_jevents_default_1890"></div>

</div>
CONTACT:71 335 22 17
X-EXTRAINFO: Wymagane zapisy! 
DTSTAMP:20260422T110245Z
DTSTART;TZID=UTC:20230114T103000
DTEND;TZID=UTC:20230114T140000
SEQUENCE:0
TRANSP:OPAQUE
END:VEVENT
END:VCALENDAR