BEGIN:VCALENDAR
VERSION:2.0
PRODID:-//jEvents 2.0 for Joomla//EN
CALSCALE:GREGORIAN
METHOD:PUBLISH
BEGIN:VEVENT
UID:28ec0d8d6ff11dccedb8a0a0fcd407f2
CATEGORIES:Dla dorosłych, Cykl: Wszechnica wiedzy o Wrocławiu
CREATED:20221212T093152
SUMMARY:Spotkanie autorskie z Joanną Lamparską 
LOCATION:Sala 35, III piętro, DBP, Rynek 58
DESCRIPTION;ENCODING=QUOTED-PRINTABLE:<p><span style="font-size: 11pt;">Towarzystwo Miłośników Wrocławia oraz Dol
 nośląska Biblioteka Publiczna<br />zapraszają na wykład redaktor Joanny Lam
 parskiej pt.: ?Wrocławskie tajemnice?.</span></p><div class="attachmentsCon
 tainer">

<div class="dbpAttachmentsList" id="attachmentsList_com_jevents_d
 efault_1874"></div>

</div>
CONTACT:Rafał Werszler: RegularLabs.EmailProtector.unCloak("ep_0e02e22d");
X-EXTRAINFO:Wstęp wolny!
DTSTAMP:20260422T095542Z
DTSTART;TZID=UTC:20230103T170000
DTEND;TZID=UTC:20230103T190000
SEQUENCE:0
TRANSP:OPAQUE
END:VEVENT
END:VCALENDAR