BEGIN:VCALENDAR
VERSION:2.0
PRODID:-//jEvents 2.0 for Joomla//EN
CALSCALE:GREGORIAN
METHOD:PUBLISH
BEGIN:VEVENT
UID:ea683d10fc8a44a090fdb27c8556c27c
CATEGORIES:Dla dorosłych, Wystawa
CREATED:20221123T082055
SUMMARY:Wystawa exlibrisu ?Rowerem bliżej natury?
LOCATION:DBP, Wrocław, Rynek 58, Galeria I piętrta
DESCRIPTION;ENCODING=QUOTED-PRINTABLE:X Międzynarodowa Wystawa Ekslibrisów i Małych Form Graficznych ?Rowerem bli
 żej natury?, jest coroczną inicjatywą organizowaną przez Oleśnicką Bibliote
 kę Publiczną im. Mikołaja Reja. Artyści z całego świata nadsyłają prace na 
 określony przez organizatora temat dedykowane osobom prywatnym oraz instytu
 cjom. Pierwsza ekspozycja odbywa się co roku w Bibliotece w Oleśnicy podcza
 s wiosennych obchodów Dnia Bibliotekarza.\n




CONTACT:RegularLabs.EmailProtector.unCloak("ep_d78ff8d4");
X-EXTRAINFO:
DTSTAMP:20260422T091056Z
DTSTART;TZID=UTC:20221101T120000
DTEND;TZID=UTC:20221230T170000
SEQUENCE:0
TRANSP:OPAQUE
END:VEVENT
END:VCALENDAR