BEGIN:VCALENDAR
VERSION:2.0
PRODID:-//jEvents 2.0 for Joomla//EN
CALSCALE:GREGORIAN
METHOD:PUBLISH
BEGIN:VEVENT
UID:c0e1f30442cfd9bdf6765d80ef65c7bf
CATEGORIES:Dla dorosłych, Spotkanie klubowe
CREATED:20221117T145128
SUMMARY:KLUB DIALOGU JĘZYKA BIAŁORUSKIEGO
LOCATION:Sala 35 (konferencyjna), III piętro, DBP
DESCRIPTION;ENCODING=QUOTED-PRINTABLE:\n\nSpotkania Klubu konwersacyjnego języka białoruskiego. Przyświecają nam 
 następujące cele:\n\n\n- wspieranie rozwoju mówionego języka białoruskiego;
 \n\n\n- stworzenie warunków dla tych osób, którzy chcą zacząć mówić po biał
 orusku;\n\n\n- umożliwienie zarówno tym, którzy już mówią po białorusku, ja
 k i tym, którzy dopiero zaczynają mówić, zapoznanie się i stworzenie własne
 go środowiska językowego;\n\n\n- poznanie nowych przyjaciół.\n\n\nSpotkania
  odbywają się w dwóch formatach, które będą na przemian. Jest to rozmowa w 
 podgrupach na dany temat w formie odpowiedzi na przygotowane pytania i deba
 ty na różne tematy między dwoma zespołami.&nbsp;\n\n\nProjekt przygotowany 
 we współpracy z inicjatywą społeczną Białorusinów z Wrocławia - klubem konw
 ersacyjnym języka białoruskiego "RazMowa".\n




CONTACT:RegularLabs.EmailProtector.unCloak("ep_b8862a8f");
X-EXTRAINFO:Wstęp wolny
DTSTAMP:20260422T091101Z
DTSTART;TZID=UTC:20221119T120000
DTEND;TZID=UTC:20221119T140000
SEQUENCE:0
TRANSP:OPAQUE
END:VEVENT
END:VCALENDAR