BEGIN:VCALENDAR
VERSION:2.0
PRODID:-//jEvents 2.0 for Joomla//EN
CALSCALE:GREGORIAN
METHOD:PUBLISH
BEGIN:VEVENT
UID:bd70b433a7d625729c0aae8dc3be94f8
CATEGORIES:American Corner / Dorośli, Warsztaty dla dorosłych, Wydarzenie zamknięte
CREATED:20220928T065602
SUMMARY:CHRISTMAS TRADITIONS all around the World ? zajęcia językowo-kulturowe dla dzieci
LOCATION:American Corner, II piętro, DBP, Rynek 58
DESCRIPTION;ENCODING=QUOTED-PRINTABLE:\n\nAmerican Corner zaprasza dzieci na warsztaty świąteczne poświęcone kraj
 om anglojęzycznym. Wspólnie będziemy podróżować po różnych krajach i poznaw
 ać ich świąteczne zwyczaje. Podczas zajęć uczniowie poznają podstawowy zasó
 b środków językowych w ramach zakresu tematycznego związanego ze świętami B
 ożego Narodzenia.\n\n\n&nbsp;\n




X-EXTRAINFO:? Warsztaty są przeznaczone dla grup szkolnych klasy 1-6 odpowiednio dostos
 owane do wieku uczestników.\n?  Obowiązują zapisy; e-mail: RegularLabs.Emai
 lProtector.unCloak("ep_6d8d88c8");. W treści maila należy podać termin wars
 ztatów, imię i nazwisko oraz nr telefonu.
DTSTAMP:20260422T101825Z
DTSTART;TZID=UTC:20221209T100000
DTEND;TZID=UTC:20221209T100000
SEQUENCE:0
TRANSP:OPAQUE
END:VEVENT
END:VCALENDAR