BEGIN:VCALENDAR
VERSION:2.0
PRODID:-//jEvents 2.0 for Joomla//EN
CALSCALE:GREGORIAN
METHOD:PUBLISH
BEGIN:VEVENT
UID:74aa33995fc6136ddeb7d92ec0c59c3b
CATEGORIES:Dla dorosłych, Warsztaty dla dorosłych
CREATED:20220926T111957
SUMMARY:Warsztaty filozoficzne ?Książka a filozofia?
LOCATION:Sala 35, III piętro, DBP, Rynek 58
DESCRIPTION;ENCODING=QUOTED-PRINTABLE:Warsztaty filozoficzne ?Książka a filozofia? to cykl spotkań realizowanych 
 w ramach projektu GOTOWI NA KSIĄŻKOWE AKCJE, przeznaczonych dla dojrzałej p
 ubliczności, odbędą się 8 października, 15 października, 22 października i 
 finałowe spotkanie 5 listopada w Dolnośląskiej Bibliotece Publicznej im. Ta
 deusza Mikulskiego o godzinie 10.00.&nbsp; \nPodczas warsztatów uczestnicy 
 postarają się udowodnić ważną rolę druku, biblioteki i samej książki w rozw
 oju filozofii lub temu zaprzeczyć... Zagubieni w otaczającym nas chaosie, &
 nbsp;codzienności, nie mamy czasu na refleksje, zastanawianie się nad niekt
 órymi sprawami. Dlatego chcielibyśmy zaprosić Was na warsztaty, w trakcie k
 tórych pokażemy, jak można ten chaos uporządkować, nazwać i oswoić. Na pros
 tym przykładzie analizowania zależności książki z filozofią poznamy podstaw
 owe pojęcia filozoficzne, nauczymy się je wykorzystywać w życiu codziennym,
  czyli poznamy praktyczną stronę filozofii i zdobędziemy narzędzia do korzy
 stania z tej wiedzy. \nWarsztaty poprowadzą Arkadiusz Grzesiek i Artur Zbor
 owski z Fundacji Wspierania Filozoficzno-Humanistycznych Działań Społecznyc
 h Sokrates.&nbsp; \n\nDofinansowano ze środków Ministra Kultury i Dziedzict
 wa Narodowego pochodzących z Funduszu Promocji Kultury oraz Budżetu Urzędu 
 Marszałkowskiego Województwa Dolnośląskiego.\n\n\n\n




CONTACT:RegularLabs.EmailProtector.unCloak("ep_b18e14b0");
X-EXTRAINFO:Wstęp wolny!
DTSTAMP:20260422T095800Z
DTSTART;TZID=UTC:20221105T100000
SEQUENCE:0
TRANSP:OPAQUE
END:VEVENT
END:VCALENDAR