BEGIN:VCALENDAR
VERSION:2.0
PRODID:-//jEvents 2.0 for Joomla//EN
CALSCALE:GREGORIAN
METHOD:PUBLISH
BEGIN:VEVENT
UID:aa7e43d65eba125bf5bc61117d2e62b3
CATEGORIES:American Corner / Dorośli, Gra miejska, Dla dzieci i młodzieży, Wydarzenie zamknięte
CREATED:20220921T112117
SUMMARY:GRA MIEJSKA dla licealistów ?Amerykanie i Polacy ? 100 lat razem?
LOCATION:American Corner, II piętro, DBP, Rynek 58
DESCRIPTION;ENCODING=QUOTED-PRINTABLE:Z okazji nadchodzącego Święta Niepodległości American Corner zaprasza na wr
 ocławski Rynek i do biblioteki na adresowaną do młodzieży&nbsp;zabawę teren
 ową ?Amerykanie i Polacy 100 lat razem?. Zapraszamy do rozwiązania z nami ł
 amigłówek językowych i poznania ciekawych historii związanych z historią Wr
 ocławia i USA.\nGra rozegra się w obrębie: siedziby American Corner oraz St
 arego Miasta.\n




CONTACT:RegularLabs.EmailProtector.unCloak("ep_e0e33173");
X-EXTRAINFO:? Zajęcia przeznaczone dla grup szkolnych 7-8 klasa szkoły podstawowej, 1-2
  klasa liceum, odpowiednio dostosowane do wieku uczestników.\n?  Obowiązują
  zapisy ; e-mail: RegularLabs.EmailProtector.unCloak("ep_7dc9924c");, W tre
 ści maila należy podać termin warsztatów, imię i nazwisko oraz nr telefonu.
DTSTAMP:20260422T101705Z
DTSTART;TZID=UTC:20221109T093000
DTEND;TZID=UTC:20221109T110000
SEQUENCE:0
TRANSP:OPAQUE
END:VEVENT
END:VCALENDAR