BEGIN:VCALENDAR
VERSION:2.0
PRODID:-//jEvents 2.0 for Joomla//EN
CALSCALE:GREGORIAN
METHOD:PUBLISH
BEGIN:VEVENT
UID:a57b1c62e903a6a58e755ddabb682c46
CATEGORIES:Dla dorosłych, Wykład , Akademia Wiedzy o Filmie
CREATED:20220921T074559
SUMMARY:Cykl wykładowy ?Historia kina dla każdego?
LOCATION:Sala 22, II piętro, DBP, Rynek 58
DESCRIPTION;ENCODING=QUOTED-PRINTABLE:Amerykańskie kino klasyczne i rozwój kina gatunków\nPo miesięcznej przerwie
  cykl ?Historia kina dla każdego? wraca ze zwojoną siłą. Wraz z początkiem 
 2023 roku w naszej podróży przez dzieje światowego kina wkroczymy w epokę k
 ina dźwiękowego, przyjrzymy się zaś przede wszystkim temu, jak w USA rozwij
 ała się idea kina gatunkowego i jak wykształciły się popularne do dziś gatu
 nki, takie jak film gangsterski i horror. Nieco uwagi poświęcone zostanie t
 eż przełomowi dźwiękowemu w kinie, a co za tym idzie także wczesnym musical
 om. Tradycyjnie nie zabraknie fragmentów filmowych. \n?Historia filmu dla k
 ażdego? to cykl popularyzatorskich prelekcji przybliżających dzieje światow
 ego kina ? od jego początków do czasów współczesnych. Podczas kolejnych spo
 tkań Dawid Głownia opowie m.in. o narodzinach Hollywood, europejskim kinie 
 niemym, klasycznym kinie gatunków, tendencjach nowofalowych w filmie oraz K
 inie Nowej Przygody i współczesnych blockbusterach.\nBiogram:\nDawid Głowni
 a ? doktor nauk o sztuce UJ, pracownik Instytutu Dziennikarstwa i Komunikac
 ji Społecznej UWr, badacz filmu i szeroko rozumianej kultury popularnej. Au
 tor dwóch książek o kinie japońskim oraz kilkunastu artykułów naukowych poś
 więconych popkulturze. W wolnych chwilach prowadzi fanpage i blog Pan Optyk
 on.\n




CONTACT:RegularLabs.EmailProtector.unCloak("ep_be5108fc");
X-EXTRAINFO:Wstęp wolny!
DTSTAMP:20260422T084208Z
DTSTART;TZID=UTC:20230117T170000
DTEND;TZID=UTC:20230117T183000
SEQUENCE:0
TRANSP:OPAQUE
END:VEVENT
END:VCALENDAR