BEGIN:VCALENDAR
VERSION:2.0
PRODID:-//jEvents 2.0 for Joomla//EN
CALSCALE:GREGORIAN
METHOD:PUBLISH
BEGIN:VEVENT
UID:e66ad3a6321ebde3f91f029da17d285f
CATEGORIES:Dla dorosłych, Wykład , Akademia Wiedzy o Filmie
CREATED:20220825T110345
SUMMARY:?Narodziny filmu i widowiska różnorodności? w ramach cyklu ?Historia kina dla każdego?
LOCATION:Sala 35, III piętro, DBP, Rynek 58
DESCRIPTION;ENCODING=QUOTED-PRINTABLE:Czy można wyznaczyć bezdyskusyjną datę narodzin kina? Gdzie oglądali filmy 
 pierwsi widzowie? Kto był pionierem filmowych efektów specjalnych? Czy wcze
 sne pokazy filmowe przypominały telewizję lub YouTube?a? Kiedy powstał pier
 wszy film na podstawie komiksu? Czy we wczesnych filmach ważna była fabuła?
  Odpowiedź na te ? a także inne ? pytania otrzymacie podczas pierwszej prel
 ekcji z cyklu ?Historia kina dla każdego?.\n?Historia filmu dla każdego? to
  cykl popularyzatorskich prelekcji przybliżających dzieje światowego kina ?
  od jego początków do czasów współczesnych. Podczas kolejnych spotkań Dawid
  Głownia opowie m.in. o narodzinach Hollywood, europejskim kinie niemym, kl
 asycznym kinie gatunków, tendencjom nowofalowym w filmie oraz Kinie Nowej P
 rzygody i współczesnym blockbusterom.\nW ramach pierwszej prelekcji przenie
 siemy się do chwili narodzin filmu pod koniec XIX wieku i prześledzimy jego
  pierwsze lata, próbując odpowiedzieć na pytanie: Czy wczesne filmy wciąż m
 ogą być dla nas interesujące?\nBiogram:\nDawid Głownia ? doktor nauk o sztu
 ce UJ, pracownik Instytutu Dziennikarstwa i Komunikacji Społecznej UWr, bad
 acz filmu i szeroko rozumianej kultury popularnej. Autor dwóch książek o ki
 nie japońskim oraz kilkunastu artykułów naukowych poświęconych popkulturze.
  W wolnych chwilach prowadzi fanpage i blog Pan Optykon.\n




CONTACT:RegularLabs.EmailProtector.unCloak("ep_3b9ef86a");
X-EXTRAINFO:Wstęp wolny!
DTSTAMP:20260422T084213Z
DTSTART;TZID=UTC:20220920T170000
DTEND;TZID=UTC:20220920T183000
SEQUENCE:0
TRANSP:OPAQUE
END:VEVENT
END:VCALENDAR