BEGIN:VCALENDAR
VERSION:2.0
PRODID:-//jEvents 2.0 for Joomla//EN
CALSCALE:GREGORIAN
METHOD:PUBLISH
BEGIN:VEVENT
UID:85885e6a9203908e6dc1d3d04492f2a9
CATEGORIES:Cykl: ?Równość?
CREATED:20220722T062148
SUMMARY:Jak rozmawiać z dziećmi o różnorodności i dyskryminacji?	
LOCATION:Sala im. Tadeusza Mikulskiego, III piętro 
DESCRIPTION;ENCODING=QUOTED-PRINTABLE:<p style="text-align: justify;"><span style="font-size: 11pt;"><strong>Trze
 cie spotkanie z cyklu ?Równość? będzie poświęcone rozmowom z dziećmi na tem
 at różnorodności i dyskryminacji. Poprowadzi je Alina Szeptycka</strong></s
 pan></p><p style="text-align: justify;"><span style="font-size: 11pt;">Wiel
 u rodziców i opiekunów zastanawia się, jak wychować dzieci, które będą tole
 rancyjne i otwarte na inne kultury, kraje, religie, tożsamości. Najlepszym 
 sposobem jest edukacja!</span></p><p style="text-align: justify;"><span sty
 le="font-size: 11pt;">Podczas spotkania przybliżymy temat różnorodności w s
 połeczeństwie oraz przywilejów społecznych. Poznamy mechanizm dyskryminacji
 : jak to się dzieje, że dochodzi do gorszego traktowania ludzi i kiedy może
 my takie sytuacje rozpoznać? Omówimy różne sposoby reagowania, angażowania 
 się i okazywania wsparcia.</span></p><p style="text-align: justify;"><span 
 style="font-size: 11pt;">Nie zabraknie rekomendacji książek i filmów mówiąc
 ych o różnorodności, szacunku i tolerancji, które możemy czytać i oglądać w
 spólnie z dziećmi w różnym wieku.</span></p><p style="text-align: justify;"
 ><span style="font-size: 11pt;">?<strong> Alina Szeptycka </strong>? trener
 ka antydyskryminacyjna, aktywistka, absolwentka Wydziału Polonistyki Uniwer
 sytetu Jagiellońskiego i Holistycznej Szkoły Trenerów. Założycielka stowarz
 yszenia Kultura Równości, w którym zajmuje się głównie edukacją i koordynow
 aniem projektów. Edukatorka w projekcie ?Szkoła bez uprzedzeń?. Organizator
 ka Wrocławskiego Marszu Równości. Współprzewodnicząca Wrocławskiej Rady ds.
  Równego Traktowania przy Prezydencie Jacku Sutryku oraz członkini Wrocławs
 kiej Rady Kobiet.</span></p><p style="text-align: justify;"><span style="fo
 nt-size: 11pt;">?<strong> Cykl Równość </strong>?<span style="font-size: 11
 pt;"></span> spotkania dotyczące mechanizmów powstawania dyskryminacji i sp
 osobów przeciwdziałania jej. Poruszamy kwestie zmian językowych i społeczny
 ch dotyczących rodzin i ich współczesnego obrazu, a także współczesnych kon
 tekstów płci i cielesności. Podjęty zostanie również temat mowy inkluzywnej
 , włączającej.</span></p><p><span style="font-size: 11pt;"><br /> </span></
 p><div class="attachmentsContainer">

<div class="dbpAttachmentsList" id="a
 ttachmentsList_com_jevents_default_1719"></div>

</div>
CONTACT:Szczegółowe informacje: 71 335 22 53
X-EXTRAINFO:Wstęp wolny
DTSTAMP:20260422T085525Z
DTSTART;TZID=UTC:20220929T170000
DTEND;TZID=UTC:20220929T180000
SEQUENCE:0
TRANSP:OPAQUE
END:VEVENT
END:VCALENDAR