BEGIN:VCALENDAR
VERSION:2.0
PRODID:-//jEvents 2.0 for Joomla//EN
CALSCALE:GREGORIAN
METHOD:PUBLISH
BEGIN:VEVENT
UID:ad2147cbb5d734d7ebbfa16344eaae5c
CATEGORIES:Dla dorosłych, Spotkanie klubowe
CREATED:20250625T074347
SUMMARY: DKK Zaczytany Rynek 58
LOCATION:DBP | Rynek 58 | I piętro | Biblioteka Niemiecka
DESCRIPTION;ENCODING=QUOTED-PRINTABLE:\n\nDyskusyjny Klub Książki "Zaczytany Rynek 58"\n29 kwietnia 2026 | godz. 
 16:15\n\nDBP | Rynek 58 | I piętro | Biblioteka Niemiecka\n&nbsp;\nZaprasza
 my do kamienicy przy Rynku 58, gdzie każda książka kryje w sobie wyjątkową 
 i niepowtarzalną opowieść.\nNasz Dyskusyjny Klub Książki jest przeznaczony 
 dla dorosłych miłośników literatury, ze szczególnym uwzględnieniem biografi
 i, reportaży oraz książek historycznych. Spotkania mają charakter otwarty, 
 dlatego każdy zainteresowany może dołączyć do naszych rozmów.\nSpotykamy si
 ę raz w miesiącu, a forma spotkań bywa różnorodna – czasem są to wykłady, j
 ednak szczególnie zachęcamy do aktywnej dyskusji i wymiany opinii w gronie 
 pasjonatów literatury.\n\n\nZ rozporządzeniem niemieckich władz administrac
 yjnych wszyscy deportowani do robót przymusowych Polacy zobowiązani byli do
  noszenia w sposób widoczny na piersi, po prawej stronie, na każdej sztuce 
 odzieży, specjalnej odznaki w formie rombu, wykonanej z płótna bawełnianego
  z literą „P” oraz otoczka rombu miały kolor fioletowy na żółtym tle. Zesta
 wienie tych kolorów stanowiło znamię pokuty, poniżenia i upodlenia człowiek
 a.&nbsp; Książka „Niewolnicy w Breslau. Wolni we Wrocławiu” zawiera wspomni
 enia Polaków, którzy w czasie II wojny światowej byli wywiezieni na roboty 
 przymusowe do Wrocławia i takie znaki z literą „P” podczas niewoli nosili.\
 nSerdecznie zapraszamy do udziału w dyskusji!\n\n\n&nbsp;\n\n\nInformacje n
 a temat dostepności oraz dojazdu do Biblioteki dostępne są na stronie https
 ://www.wbp.wroc.pl/wbp/pl/deklaracja-dostepnosci#dojazd\n\n\n&nbsp;\n




CONTACT:RegularLabs.EmailProtector.unCloak("ep_e37acb66"); 
X-EXTRAINFO:wstęp wolny
DTSTAMP:20260422T105745Z
DTSTART;TZID=UTC:20260429T161500
SEQUENCE:0
TRANSP:OPAQUE
END:VEVENT
END:VCALENDAR