BEGIN:VCALENDAR
VERSION:2.0
PRODID:-//jEvents 2.0 for Joomla//EN
CALSCALE:GREGORIAN
METHOD:PUBLISH
BEGIN:VEVENT
UID:963419d5fa7f84fa9447030140d5215d
CATEGORIES:Zajęcia dla dzieci
CREATED:20211124T092817
SUMMARY:BIBLIOTECZNA AKADEMIA NIEMOWLAKA ? ?Proszę Państwa, oto miś...??
LOCATION:Biblioteka 7 Kontynentów, parter
DESCRIPTION;ENCODING=QUOTED-PRINTABLE:Dział Pracy z Dziećmi zaprasza dzieci w wieku od 6 miesięcy do 1,5 roku (wr
 az z rodzicami lub opiekunami!) na sobotnie zajęcia Bibliotecznej Akademii 
 Niemowlaka, które poprowadzi dla Was Pani Julia.&nbsp;&nbsp;- - - - - - - -
  - - - - - - - -&nbsp;&nbsp;Proszę Państwa, oto miś.\nMiś jest bardzo grzec
 zny dziś,\nChętnie Państwu łapę poda.\nNie chce podać? A to szkoda!\n(Jan B
 rzechwa)&nbsp;Wszystkie dzieci lubią misie. Misie są mięciutkie, milutkie i
  kochane....&nbsp;Dlatego prosimy o zabranie ze sobą swojego ulubionego plu
 szaka misia, będziemy przytulać go, śpiewać mu i bawić się razem z nim...&n
 bsp;? Obecność rodziców (lub opiekunów) na zajęciach jest obowiązkowa. Zaję
 cia są bezpłatne. Zainteresowane osoby prosimy o wysłanie maila na adres:&n
 bsp;RegularLabs.EmailProtector.unCloak("ep_bc281790");.&nbsp;Ilość miejsc o
 graniczona, decyduje kolejność zgłoszeń!&nbsp;- - - - - - - - - - - - - - -
  -&nbsp;&nbsp;?&nbsp;&nbsp;UWAGA RODZICE!&nbsp;Udział w spotkaniu będzie do
 brą okazją do założenia Waszym Pociechom dziecięcych kart bibliotecznych, d
 o czego wszystkich serdecznie zachęcamy!




CONTACT:Kontakt\n71 33 52 217
X-EXTRAINFO:Zgłąszających się prosimy o wysłanie maila na adres: RegularLabs.EmailProte
 ctor.unCloak("ep_63ded19a");
DTSTAMP:20260424T081649Z
DTSTART;TZID=UTC:20211127T103000
DTEND;TZID=UTC:20211127T113000
SEQUENCE:0
TRANSP:OPAQUE
END:VEVENT
END:VCALENDAR