BEGIN:VCALENDAR
VERSION:2.0
PRODID:-//jEvents 2.0 for Joomla//EN
CALSCALE:GREGORIAN
METHOD:PUBLISH
BEGIN:VEVENT
UID:d7ffb53cab7b455c96dc9ef364d992aa
CATEGORIES:Wystawa
CREATED:20211028T091729
SUMMARY:Pożycz książkę ? poznaj temat! Dzień Żywności
LOCATION:Czytelnia, II piętro
DESCRIPTION;ENCODING=QUOTED-PRINTABLE:\n\nSpożywamy posiłki spędzając miło czas w gronie najbliższych. Spotykamy 
 się z przyjaciółmi w restauracjach zachwycając się smakami egzotycznych kuc
 hni. Dajemy sobie chwilę przyjemności delektując się ulubionym deserem.&nbs
 p;Większość z nas ma pozytywne skojarzenia z żywnością. Jest niezbędna do ż
 ycia.&nbsp;Nie wszyscy jednak mają możliwość, aby celebrować posiłki. Nawet
  dziś, kiedy produkcja żywności odbywa się na skalę światową i możemy korzy
 stać ze składników z najodleglejszych zakątków świata, ludzie cierpią głód 
 i niedożywienie. Mniej lub bardziej świadomie marnujemy niebotyczne ilości 
 jedzenia zwiększając emisję dwutlenku węgla, tracąc zasoby niezbędne do jeg
 o produkcji i uszczuplając swój portfel.&nbsp;Aby podnosić świadomość dotyc
 zącą ogólnoświatowych problemów żywieniowych i popierać inicjatywy dotycząc
 e przeciwdziałaniu ubóstwu, głodowi i niedożywieniu, powstał obchodzony 16 
 października Światowy Dzień Żywności.\n\n\nW dniach 27.10.2021 do 10.11.202
 1 zapraszamy do Czytelni po książki obejmujące tematykę żywności. Przygotow
 ane zostały zarówno te bardzo specjalistyczne o biotechnologii, mikrobiolog
 ii i bezpieczeństwie żywności, jak i dotyczące sposobu przedstawiania jej w
  filmach, w książce ?Filmy do zjedzenia?.\n\n\nCzęść pozycji dotyczy tego, 
 w jaki sposób dzisiaj postrzegamy jedzenie i czym ono się dla nas stało. Po
 lecamy zamieszczoną już na naszej stronie recenzję ?Tak dziś jemy? (TUTAJ &
 gt;&gt;).&nbsp;Carolyn Steel w ?Sitopii? rozwodzi się nad znaczeniem jedzen
 ia dla człowieka XXI wieku. Hanna Stolińska w ?Zakłamanym jedzeniu? zwraca 
 uwagę na mity dotyczące zdrowego odżywiania.\n\n\nJesteście ciekawi/e, co w
 ięcej przygotowaliśmy? Zapraszamy do Czytelni!\n- - - - - - - - - - - - - -
  - - - - - - - - - - - - - - - - - - - - - - - - -\nPoznaj raport ?Nie marn
 uj jedzenia? opublikowany przez Banki Żywności ? TUTAJ &gt;&gt;\n- - - - - 
 - - - - - - - - - - - - - - - - - - - - - - - - - - - - - - - - - -\n? ?Poż
 ycz książkę ? poznaj temat!? to akcja, w ramach której regularnie z przepas
 tnych regałów magazynu wydobywamy dla Was książki o rozmaitej tematyce i&nb
 sp;umieszczamy na specjalnej półce w czytelni. Możecie je tam przeglądać i 
 wypożyczać te, które Was zainteresują. Serdecznie zapraszamy!\n &nbsp;? ? ?
  ? ? ? ? ? ? ? ? ? ? ? ? ?\n \n ? ? ? ? ? ? ? ? ? ? ? ? ? ? ? ?\n &nbsp;



 

CONTACT:Kontakt:\n71 33-52-257
X-EXTRAINFO:Akcja potrwa do 10 listopada 2021 r.
DTSTAMP:20260422T102855Z
DTSTART;TZID=UTC:20211102T103000
DTEND;TZID=UTC:20211110T183000
SEQUENCE:0
TRANSP:OPAQUE
END:VEVENT
END:VCALENDAR