BEGIN:VCALENDAR
VERSION:2.0
PRODID:-//jEvents 2.0 for Joomla//EN
CALSCALE:GREGORIAN
METHOD:PUBLISH
BEGIN:VEVENT
UID:bdbea66fcba987c8c4ed38b7c4fd406b
CATEGORIES:Akademia Wiedzy o Filmie
CREATED:20211013T071655
SUMMARY:Spotkania z koreańskim kinem popularnym: PARK CHAN-WOOK ? ?twarz? renesansu południowokoreańskiego kina
LOCATION:Sala im. Tadeusza Mikulskiego, III piętro
DESCRIPTION;ENCODING=QUOTED-PRINTABLE:\n\nZapraszamy na czwartą odsłonę comiesięcznego cyklu popularyzatorskich p
 relekcji ?Spotkania z koreańskim kinem popularnym?. Po raz pierwszy spotkan
 ie to odbędzie się nie w trybie online, lecz w murach naszej Biblioteki.\n\
 nSpotkaniem tym zamykamy blok poświęcony trójce reżyserów debiutujących w l
 atach 90. XX wieku, których dokonania przyczyniły się do popularyzacji kore
 ańskiego kina na arenie międzynarodowej ? jego bohaterem będzie Park Chan-w
 ook, twórca głośnej ?trylogii zemsty?? i nie tylko.\n\n\nGdyby konieczne by
 ło wskazanie jednego wydarzenia symbolizującego odrodzenie kinematografii K
 orei Południowej na przełomie XX i XXI wieku oraz wzrost zainteresowania ni
 ą poza granicami kraju, niewątpliwie byłoby to przyznanie w 2004 roku nagro
 dy Grand Prix na Międzynarodowym Festiwalu Filmowym w Cannes filmowi ?Odlbo
 y?. Park Chan-wook, jego reżyser, przez długi czas był ?twarzą? południowok
 oreańskiego kina na Zachodzie ? najbardziej rozpoznawalnym z tamtejszych tw
 órców filmowych i dowodem na to, że powstają tam ciekawe filmy.\n\n\nGdy Pa
 rk odbierał w Cannes nagrodę za ?Oldboya?, miał już 41 lat i pięć pełnometr
 ażowych filmów na koncie, w tym jeden ogromny sukces komercyjny w Korei Poł
 udniowej ? ?Strefę bezpieczeństwa? z 2000 roku ? był też cenionym krytykiem
  filmowym. Od tego czasu zrealizował jeszcze pięć filmów pełnometrażowych i
  kilka krótkich metraży, pracował również jako producent.\n\n\nPodczas spot
 kania Dawid Głownia przybliży sylwetkę i twórczość Park Chan-wooka, pozosta
 jącego wciąż jednym z ciekawszych południowokoreańskich reżyserów. A że w k
 ońcu możemy spotkać się na żywo ? nie zabraknie fragmentów filmowych.\n\n\n
 \n?&nbsp;Uwaga! uczestników obowiązują maseczki. Prosimy o zachowanie dysta
 nsu.\n- - - - - - - - - - - - - - - - - - - - - - - - - - - - - - - - - - -
 \nSpotkanie poprowadzi Dawid Głownia ? doktor nauk o sztuce UJ, pracownik I
 nstytutu Dziennikarstwa i Komunikacji Społecznej UWr, badacz filmu i szerok
 o rozumianej kultury popularnej. Autor dwóch książek o kinie japońskim oraz
  kilkunastu artykułów naukowych poświęconych popkulturze. W wolnych chwilac
 h prowadzi fanpage i blog Pan Optykon.




CONTACT:tel. 71 33-52-203
DTSTAMP:20260424T081659Z
DTSTART;TZID=UTC:20211019T170000
DTEND;TZID=UTC:20211019T183000
SEQUENCE:0
TRANSP:OPAQUE
END:VEVENT
END:VCALENDAR