BEGIN:VCALENDAR
VERSION:2.0
PRODID:-//jEvents 2.0 for Joomla//EN
CALSCALE:GREGORIAN
METHOD:PUBLISH
BEGIN:VEVENT
UID:dcf15e0b0152945a9843e04717f5d601
CATEGORIES:Dyskusyjny Klub Książki Kryminalnej "Zbrodnia we wtorek"
CREATED:20211010T045804
SUMMARY:ZAPRASZAMY DO DYSKUSYJNEGO KLUBU KSIĄŻKI KRYMINALNEJ
LOCATION:Sala nr 22, II piętro
DESCRIPTION;ENCODING=QUOTED-PRINTABLE:Po długiej przerwie spowodowanej pandemią na nowo rozpoczynamy spotkania mi
 łośników kryminałów. Serdecznie zapraszamy wszystkich czytelników! I tych, 
 którzy jeszcze nie brali udziału w spotkaniach DKKK, i naszych klubowiczów!
  Nasze spotkania to okazja do rozszerzenia wiedzy o tym, co ciekawego w lit
 eraturze kryminalnej pojawia się na rynku wydawniczym. Jeszcze jedno ciekaw
 e źródło informacji, bo oparte na osobistym doświadczeniu lekturowym. Jest 
 to również szansa na podzielenie się z innymi fanami gatunku swoimi refleks
 jami, uczestniczenia w tworzeniu ?recenzji na żywo?...&nbsp;- - - - - - - -
 \n 




CONTACT:Kontakt:\nKatarzyna Zborowska\n71 33-52-236
X-EXTRAINFO:Wstęp wolny!
DTSTAMP:20260422T105740Z
DTSTART;TZID=UTC:20211019T170000
DTEND;TZID=UTC:20211019T183000
SEQUENCE:0
TRANSP:OPAQUE
END:VEVENT
END:VCALENDAR