BEGIN:VCALENDAR
VERSION:2.0
PRODID:-//jEvents 2.0 for Joomla//EN
CALSCALE:GREGORIAN
METHOD:PUBLISH
BEGIN:VEVENT
UID:76210b14c44293f1a9d600f0719ea747
CATEGORIES:Zajęcia dla dzieci
CREATED:20211006T054437
SUMMARY:STARE I NOWE SPOTKANIA BAJKOWE ? ?Jesień malowana sztuką?
LOCATION:Biblioteka 7 Kontynentów, parter
DESCRIPTION;ENCODING=QUOTED-PRINTABLE:Dział Pracy z Dziećmi zaprasza dzieci w wieku od 4 do 6-7 lat (wraz z rodzi
 cami lub opiekunami!) na sobotnie zajęcia, które poprowadzi dla Was Pani Ju
 lia. Podczas spotkania będziemy tańczyć, śpiewać czytać i bawić się. Instru
 menty, śpiew i kolorowe chusty pójdą w ruch, aby ?namalować jesień?, wykorz
 ystując wszystkie rodzaje sztuki i oddziałując na wszystkie zmysły.&nbsp;UW
 AGA RODZICE!\nUdział w spotkaniu będzie dobrą okazją do założenia Waszym Po
 ciechom dziecięcych kart bibliotecznych, do czego wszystkich serdecznie zac
 hęcamy!&nbsp;- - - - - - - - - - - - - - - -&nbsp;&nbsp;? Obecność rodziców
  (lub opiekunów) na zajęciach jest obowiązkowa. Zajęcia są bezpłatne. Zaint
 eresowane osoby prosimy o wysłanie maila na adres:&nbsp;RegularLabs.EmailPr
 otector.unCloak("ep_3196b9b2");.&nbsp;Ilość miejsc ograniczona, decyduje ko
 lejność zgłoszeń!




CONTACT:Kontakt\n71 33 52 217
X-EXTRAINFO:Zgłąszających się prosimy o wysłanie maila na adres: RegularLabs.EmailProte
 ctor.unCloak("ep_db327571");
DTSTAMP:20260424T081657Z
DTSTART;TZID=UTC:20211016T130000
DTEND;TZID=UTC:20211016T140000
SEQUENCE:0
TRANSP:OPAQUE
END:VEVENT
END:VCALENDAR