BEGIN:VCALENDAR
VERSION:2.0
PRODID:-//jEvents 2.0 for Joomla//EN
CALSCALE:GREGORIAN
METHOD:PUBLISH
BEGIN:VEVENT
UID:a845e67b2d5e9e0e7f61973252a2e83e
CATEGORIES:Zajęcia dla dzieci
CREATED:20211006T053440
SUMMARY:BIBLIOTECZNA AKADEMIA NIEMOWLAKA ? ?Jesień malowana sztuką?
LOCATION:Biblioteka 7 Kontynentów, parter
DESCRIPTION;ENCODING=QUOTED-PRINTABLE:Dział Pracy z Dziećmi zaprasza dzieci w wieku od 6 miesięcy do 1,5 roku (wr
 az z rodzicami lub opiekunami!) na sobotnie zajęcia Bibliotecznej Akademii 
 Niemowlaka, które poprowadzi dla Was Pani Julia.&nbsp; Podczas spotkania ma
 luszki otulą się kolorowymi chustami, zagrają na instrumentach i pośpiewają
  z rodzicami przy akompaniamencie muzyki.&nbsp;UWAGA RODZICE!\nUdział w spo
 tkaniu będzie dobrą okazją do założenia Waszym Pociechom dziecięcych kart b
 ibliotecznych, do czego wszystkich serdecznie zachęcamy!&nbsp;- - - - - - -
  - - - - - - - - -&nbsp;&nbsp;? Obecność rodziców (lub opiekunów) na zajęci
 ach jest obowiązkowa. Zajęcia są bezpłatne. Zainteresowane osoby prosimy o 
 wysłanie maila na adres:&nbsp;RegularLabs.EmailProtector.unCloak("ep_004729
 5f");.&nbsp;Ilość miejsc ograniczona, decyduje kolejność zgłoszeń!




CONTACT:Kontakt\n71 33 52 217
X-EXTRAINFO:Zgłąszających się prosimy o wysłanie maila na adres: RegularLabs.EmailProte
 ctor.unCloak("ep_090df5bb");
DTSTAMP:20260424T081730Z
DTSTART;TZID=UTC:20211016T103000
DTEND;TZID=UTC:20211016T113000
SEQUENCE:0
TRANSP:OPAQUE
END:VEVENT
END:VCALENDAR