BEGIN:VCALENDAR
VERSION:2.0
PRODID:-//jEvents 2.0 for Joomla//EN
CALSCALE:GREGORIAN
METHOD:PUBLISH
BEGIN:VEVENT
UID:b5b100a0f99a7b62cbda60d13c3e7595
CATEGORIES:Zajęcia dla młodzieży
CREATED:20211005T061613
SUMMARY:HALLOVEEN CUSTOMS AND TRADITIONS ? zajęcia dla młodzieży
LOCATION:American Corner, II piętro
DESCRIPTION;ENCODING=QUOTED-PRINTABLE:My jesteśmy straszne zmory,\n Bardzo groźne z nas upiory,\n Jeśli nie chces
 z się nas bać,\n Musisz nam cukierka dać!\n \nZapraszamy licealistów na wsp
 ólna zabawę z okazji Halloween.\n - - - - - - - - - - - - - - - - - - - - -
  - - - - - - -? Obowiązują zapisy ? 71-3352215\n e-mail: RegularLabs.EmailP
 rotector.unCloak("ep_4a8d879e");\n 




CONTACT:Kontakt:\nAmerican Corner\n71 33-52-215
DTSTAMP:20260424T081657Z
DTSTART;TZID=UTC:20211028T120000
DTEND;TZID=UTC:20211028T130000
SEQUENCE:0
TRANSP:OPAQUE
END:VEVENT
END:VCALENDAR